BEGIN:VCALENDAR
VERSION:2.0
PRODID:-//ChamberMaster//Event Calendar 2.0//EN
METHOD:PUBLISH
X-PUBLISHED-TTL:P3D
REFRESH-INTERVAL:P3D
CALSCALE:GREGORIAN
BEGIN:VEVENT
DTSTART:20240914T150000Z
DTEND:20240914T163000Z
X-MICROSOFT-CDO-ALLDAYEVENT:FALSE
SUMMARY:A Shining Thank You
DESCRIPTION:It's a STARRY Morning and Shining Thank You! Join us for an appreciation to our stakeholders and the community for supporting our mission to nurture children and strengthen families. This celebration includes a delicious brunch\, exciting updates\, and a tour of the Carver Center for Families. You can participate in an outreach activity to provide food baskets for families in need. Free and family-friendly.
X-ALT-DESC;FMTTYPE=text/html:<span style="font-size:18px\;"><span style="font-family:arial\;">It&#39\;s a STARRY Morning and Shining Thank You! Join us for an appreciation to our stakeholders and the community for supporting our mission to nurture children and strengthen families. This celebration includes a delicious brunch\, exciting updates\, and a tour of the Carver Center for Families. You can participate in an outreach activity to provide food baskets for families in need. Free and family-friendly.&nbsp\;</span></span>
LOCATION:Carver Center for Families 1200 W. 17th Street Georgetown\, TX 78626
UID:e.3550.8683
SEQUENCE:3
DTSTAMP:20260424T042827Z
URL:http://business.georgetownchamber.org/events/details/a-shining-thank-you-8683
END:VEVENT

END:VCALENDAR
