BEGIN:VCALENDAR
VERSION:2.0
PRODID:-//ChamberMaster//Event Calendar 2.0//EN
METHOD:PUBLISH
X-PUBLISHED-TTL:P3D
REFRESH-INTERVAL:P3D
CALSCALE:GREGORIAN
BEGIN:VEVENT
DTSTART:20240906T163000Z
DTEND:20240906T183000Z
X-MICROSOFT-CDO-ALLDAYEVENT:FALSE
SUMMARY:Frost Bank Chuck Wagon Lunch
DESCRIPTION:Join us to celebrate the grand opening of our new Georgetown North Financial Center with a Chuck Wagon Lunch. We'll be serving BBQ brisket\, beans\, potato salad\, peach cobbler\, tea and water. In addition to food\, we'll have live music. This event is free and open to the public.
X-ALT-DESC;FMTTYPE=text/html:<span style="font-size:18px\;"><span style="font-family:arial\;"><span style="color: rgb(5\, 5\, 5)\;">Join us to celebrate the grand opening of our new Georgetown North Financial Center with a Chuck Wagon Lunch. We&rsquo\;ll be serving BBQ brisket\, beans\, potato salad\, peach cobbler\, tea and water. In addition to food\, we&#39\;ll have live music. This event is free and open to the public.</span></span></span>
LOCATION:Frost Bank Georgetown North Financial Center 4720 Williams Dr. Suite 201 Georgetown\, TX\, 78633
UID:e.3550.8687
SEQUENCE:3
DTSTAMP:20260424T042535Z
URL:http://business.georgetownchamber.org/events/details/frost-bank-chuck-wagon-lunch-8687
END:VEVENT

END:VCALENDAR
