BEGIN:VCALENDAR
VERSION:2.0
PRODID:-//ChamberMaster//Event Calendar 2.0//EN
METHOD:PUBLISH
X-PUBLISHED-TTL:P3D
REFRESH-INTERVAL:P3D
CALSCALE:GREGORIAN
BEGIN:VEVENT
DTSTART:20240907T150000Z
DTEND:20240907T170000Z
X-MICROSOFT-CDO-ALLDAYEVENT:FALSE
SUMMARY:Frost College Football Family Fun Day
DESCRIPTION:Join us to celebrate the grand opening of our Georgetown North Financial Center with a College Football Family Fun Day. Attractions include complimentary food\, face painting\, a balloon artist\, games and music. Show your team spirit and wear your favorite college football jersey. This event is free and open to the public.
X-ALT-DESC;FMTTYPE=text/html:<span style="font-size:18px\;"><span style="font-family:arial\;"><span style="color: rgb(5\, 5\, 5)\;">Join us to celebrate the grand opening of our Georgetown North Financial Center with a College Football Family Fun Day. Attractions include complimentary food\, face painting\, a balloon artist\, games and music. Show your team spirit and wear your favorite college football jersey. This event is free and open to the public.</span></span></span>
LOCATION:Frost Bank Georgetown North Financial Center 4720 Williams Dr. Suite 201 Georgetown\, TX 78633
UID:e.3550.8688
SEQUENCE:3
DTSTAMP:20260424T043604Z
URL:http://business.georgetownchamber.org/events/details/frost-college-football-family-fun-day-8688
END:VEVENT

END:VCALENDAR
