BEGIN:VCALENDAR
VERSION:2.0
PRODID:-//ChamberMaster//Event Calendar 2.0//EN
METHOD:PUBLISH
X-PUBLISHED-TTL:P3D
REFRESH-INTERVAL:P3D
CALSCALE:GREGORIAN
BEGIN:VEVENT
DTSTART:20240905T140000Z
DTEND:20240905T170000Z
X-MICROSOFT-CDO-ALLDAYEVENT:FALSE
SUMMARY:Georgetown Community & Veterans Job Fair
DESCRIPTION:The City of Georgetown\, along with Workforce Solutions Rural Capital Area\, and the Texas Veterans Leadership Program of the Texas Workforce Commission\, is hosting the Annual Community & Veterans Job Fair from 9AM to Noon September 5th in the Georgetown Community Center\, 445 E. Morrow St.\n\n\n\nBusinesses from Georgetown and the surrounding area will be onsite accepting applications and resumes. The first hour is open to veterans and their families. The last two hours of the event will be open to the public to attend.\n\n\n\nEmployers: Click here to request a reservation by August 28th. Reservation request will be reviewed and confirmation of table will be emailed.  Confirmed table is required in order to participate.\n\n\n\nJob seekers: Click here to register.  Registration is highly encouraged but not required to attend.\n\n\n\nFor more information\, email ecodev@georgetown.org.
X-ALT-DESC;FMTTYPE=text/html:<span style="font-size:18px\;"><span style="font-family:arial\;">The City of Georgetown\, along with Workforce Solutions Rural Capital Area\, and the Texas Veterans Leadership Program of the Texas Workforce Commission\, is hosting the Annual Community &amp\; Veterans Job Fair from 9AM to Noon September 5th in the Georgetown Community Center\, 445 E. Morrow St.<br />\n<br />\nBusinesses from Georgetown and the surrounding area will be onsite accepting applications and resumes. The first hour is open to veterans and their families. The last two hours of the event will be open to the public to attend.<br />\n<br />\n<strong>Employers:</strong> <a href="https://www.eventeny.com/events/vendor/?id=20104">Click here to request a reservation</a> by August 28<sup>th</sup>. Reservation request will be reviewed and confirmation of table will be emailed.&nbsp\; Confirmed table is required in order to participate.<br />\n<br />\n<strong>Job seekers: </strong><a href="https://www.eventeny.com/events/georgetowncommunityandveteransjobfair-12786/">Click here to register</a>.&nbsp\; Registration is highly encouraged but not required to attend.<br />\n<br />\nFor more information\, email <a href="mailto:ecodev@georgetown.org">ecodev@georgetown.org</a>.</span></span><br />\n&nbsp\;
LOCATION:Georgetown Community Center 445 E. Morrow St. Georgetown\, TX 78626
UID:e.3550.8689
SEQUENCE:3
DTSTAMP:20260424T043005Z
URL:http://business.georgetownchamber.org/events/details/georgetown-community-veterans-job-fair-8689
END:VEVENT

END:VCALENDAR
