BEGIN:VCALENDAR
VERSION:2.0
PRODID:-//ChamberMaster//Event Calendar 2.0//EN
METHOD:PUBLISH
X-PUBLISHED-TTL:P3D
REFRESH-INTERVAL:P3D
CALSCALE:GREGORIAN
BEGIN:VEVENT
DTSTART:20240819T150000Z
DTEND:20240819T170000Z
X-MICROSOFT-CDO-ALLDAYEVENT:FALSE
SUMMARY:Groundbreaking & Blessing Ceremony
DESCRIPTION:Join us for our Groundbreaking & Blessing Ceremony as we begin our expansion project of five four-bedroom/4bath homes and community center.
X-ALT-DESC;FMTTYPE=text/html:Join us for our Groundbreaking &amp\; Blessing Ceremony as we begin our expansion project of five four-bedroom/4bath homes and community center.
LOCATION:Annunciation Maternity Home 3610 Shell Rd. Georgetown\, TX
UID:e.3550.8504
SEQUENCE:3
DTSTAMP:20260424T031940Z
URL:http://business.georgetownchamber.org/events/details/groundbreaking-blessing-ceremony-8504
END:VEVENT

END:VCALENDAR
