BEGIN:VCALENDAR
VERSION:2.0
PRODID:-//ChamberMaster//Event Calendar 2.0//EN
METHOD:PUBLISH
X-PUBLISHED-TTL:P3D
REFRESH-INTERVAL:P3D
CALSCALE:GREGORIAN
BEGIN:VEVENT
DTSTART:20240816T140000Z
DTEND:20240816T180000Z
X-MICROSOFT-CDO-ALLDAYEVENT:FALSE
SUMMARY:Hiring Event - Worldwide Flight Services
DESCRIPTION:Hiring Event for Worldwide Flight Services\n\nAir Express Warehouse Team Member (Austin Airport)\n\n\n\nThursday\, August 9\, 2024\n\n9am-1pm\n\nBring Two Forms of ID-Interview Offer on the spot\n\n\n\nWorkforce Solutions Rural Capital Area Office
X-ALT-DESC;FMTTYPE=text/html:<span style="font-size:16px"><span style="font-family:arial">Hiring Event for Worldwide Flight Services<br />\nAir Express Warehouse Team Member (Austin Airport)<br />\n<br />\nThursday\, August 9\, 2024<br />\n9am-1pm<br />\nBring Two Forms of ID-Interview Offer on the spot<br />\n<br />\nWorkforce Solutions Rural Capital Area Office</span></span>
LOCATION:Workforce Solutions Rural Capital Area Office 575 Round Rock West Dr. Building H\, Suite 220 Round Rock\, TX 78681
UID:e.3550.8540
SEQUENCE:3
DTSTAMP:20260424T021831Z
URL:http://business.georgetownchamber.org/events/details/hiring-event-worldwide-flight-services-08-16-2024-8540
END:VEVENT

END:VCALENDAR
