BEGIN:VCALENDAR
VERSION:2.0
PRODID:-//ChamberMaster//Event Calendar 2.0//EN
METHOD:PUBLISH
X-PUBLISHED-TTL:P3D
REFRESH-INTERVAL:P3D
CALSCALE:GREGORIAN
BEGIN:VEVENT
DTSTART:20191116T170000Z
DTEND:20191116T180000Z
X-MICROSOFT-CDO-ALLDAYEVENT:FALSE
SUMMARY:2019.11 1st Annual Community Event- All In Georgetown
DESCRIPTION:Join Us! 1st Annual Community Event for Radical Restoration \n\nAll In Georgetown  \n\n\n\nHelp us be the change in our community in the fight against addiction\, human trafficking\, abuse\, and incarceration......\n\n\n\nRadical Restoration Ministries is a non-profit organization dedicated to empowering the lives of women coming out of addiction\, human trafficking\, abuse\, and incarceration. \n\n\n\nOur goal is to raise $500\,000 to purchase a home where our ministry can continue to restore and heal lives through the love of God.
X-ALT-DESC;FMTTYPE=text/html:Join Us! 1st Annual Community Event for Radical Restoration&nbsp\;<br />\nAll In Georgetown&nbsp\;&nbsp\;<br />\n<br />\nHelp us be the change in our community in the fight against addiction\, human trafficking\, abuse\, and incarceration......<br />\n<br />\nRadical Restoration Ministries is a non-profit organization dedicated to empowering the lives of women coming out of addiction\, human trafficking\, abuse\, and incarceration.&nbsp\;<br />\n<br />\nOur goal is to raise $500\,000 to purchase a home where our ministry can continue to restore and heal lives through the love of God.&nbsp\;
LOCATION:Founders Park (beside Sweet Lemon Kitchen) 814 Church Street Georgetown\, TX 78626
UID:e.3550.1206
SEQUENCE:3
DTSTAMP:20260421T113528Z
URL:https://business.georgetownchamber.org/events/details/2019-11-1st-annual-community-event-all-in-georgetown-1206
END:VEVENT

END:VCALENDAR
