BEGIN:VCALENDAR
VERSION:2.0
PRODID:-//ChamberMaster//Event Calendar 2.0//EN
METHOD:PUBLISH
X-PUBLISHED-TTL:P3D
REFRESH-INTERVAL:P3D
CALSCALE:GREGORIAN
BEGIN:VEVENT
DTSTART:20191119T150000Z
DTEND:20191119T180000Z
X-MICROSOFT-CDO-ALLDAYEVENT:FALSE
SUMMARY:2019.11 Alzheimer's Association Community Forum
DESCRIPTION:Learn about Alzheimer's\, dementia and memory loss. Bring a friend and or family member who has been affected by the disease. Share your thoughts about how we can help people in your community. Light refreshments will be provided.
X-ALT-DESC;FMTTYPE=text/html:Learn about Alzheimer&#39\;s\, dementia and memory loss. Bring a friend and or family member who has been affected by the disease. Share your thoughts about how we can help people in your community. Light refreshments will be provided.
LOCATION:Texas A&M University Central Texas Bernie Beck Hall 1001 Leadership Pl Killeen TX 76549
UID:e.3550.1216
SEQUENCE:3
DTSTAMP:20260421T113007Z
URL:https://business.georgetownchamber.org/events/details/2019-11-alzheimer-s-association-community-forum-1216
END:VEVENT

END:VCALENDAR
