BEGIN:VCALENDAR
VERSION:2.0
PRODID:-//ChamberMaster//Event Calendar 2.0//EN
METHOD:PUBLISH
X-PUBLISHED-TTL:P3D
REFRESH-INTERVAL:P3D
CALSCALE:GREGORIAN
BEGIN:VEVENT
DTSTART:20191124T220000Z
DTEND:20191125T010000Z
X-MICROSOFT-CDO-ALLDAYEVENT:FALSE
SUMMARY:2019.11 Austin Spurs Community Night
DESCRIPTION:Austin Spurs Community Night.  Come celebrate your community at the Austin Spurs Game Sunday- November 24! \n\n\n\nThey are offering 2 complimentary tickets to member of the Georgetown Chamber and additional tickets at a discount rate!
X-ALT-DESC;FMTTYPE=text/html:Austin Spurs Community Night.&nbsp\; Come celebrate your community at the Austin Spurs Game Sunday- November 24!&nbsp\;<br />\n<br />\nThey are offering 2 complimentary tickets to member of the Georgetown Chamber and additional tickets at a discount rate!&nbsp\;
LOCATION:HEB Center at Cedar park 2100 Avenue of the Stars Cedar Park\, TX 78613
UID:e.3550.1351
SEQUENCE:3
DTSTAMP:20260421T113423Z
URL:https://business.georgetownchamber.org/events/details/2019-11-austin-spurs-community-night-1351
END:VEVENT

END:VCALENDAR
