BEGIN:VCALENDAR
VERSION:2.0
PRODID:-//ChamberMaster//Event Calendar 2.0//EN
METHOD:PUBLISH
X-PUBLISHED-TTL:P3D
REFRESH-INTERVAL:P3D
CALSCALE:GREGORIAN
BEGIN:VEVENT
DTSTART:20191105T233000Z
DTEND:20191106T013000Z
X-MICROSOFT-CDO-ALLDAYEVENT:FALSE
SUMMARY:2019.11 Gallery of Memories: A Gift of Time Fundraiser
DESCRIPTION:The Gallery of Memories is a beautiful\, community-sponsored exhibit fundraiser to honor those impacted by dementia.  \n\nThe fundraising reception will feature a presentation by Dr. Christopher Johnson\, PhD\, a Clinical Professor of Sociology at Texas State University specializing in Dementia and Aging Studies. \n\nThis exhibit and presentation are part of our ongoing effort to raise funds to acquire a building for A Gift of Time\, to bring our holistic Adult Day Center program to those living with Memory Loss\, and to provide support to a community of caregivers.
X-ALT-DESC;FMTTYPE=text/html:The Gallery of Memories is a beautiful\, community-sponsored exhibit fundraiser to honor those impacted by dementia.&nbsp\;&nbsp\;<br />\nThe fundraising reception will feature a presentation by Dr. Christopher Johnson\, PhD\, a Clinical Professor of Sociology at Texas State University specializing in Dementia and Aging Studies.&nbsp\;<br />\nThis exhibit and presentation are part of our ongoing effort to raise funds to acquire a building for A Gift of Time\, to bring our holistic Adult Day Center program to those living with Memory Loss\, and to provide support to a community of caregivers.&nbsp\;
LOCATION:Georgetown Community Center 445 E. Morrow St. Georgetown\, TX 78626
UID:e.3550.1186
SEQUENCE:3
DTSTAMP:20260421T124256Z
URL:https://business.georgetownchamber.org/events/details/2019-11-gallery-of-memories-a-gift-of-time-fundraiser-1186
END:VEVENT

END:VCALENDAR
