BEGIN:VCALENDAR
VERSION:2.0
PRODID:-//ChamberMaster//Event Calendar 2.0//EN
METHOD:PUBLISH
X-PUBLISHED-TTL:P3D
REFRESH-INTERVAL:P3D
CALSCALE:GREGORIAN
BEGIN:VEVENT
DTSTART:20191117T200000Z
DTEND:20191117T220000Z
X-MICROSOFT-CDO-ALLDAYEVENT:FALSE
SUMMARY:2019.11 Georgetown Film Festival Official Poster Unveiling
DESCRIPTION:GTX Film will unveil it's official poster for the 2020 Georgetown Film Festival & Conference\, April 23-25. Designed by artist Carrie Cook.
X-ALT-DESC;FMTTYPE=text/html:GTX Film will unveil it&#39\;s official poster for the 2020 Georgetown Film Festival &amp\; Conference\, April 23-25. Designed by artist Carrie Cook.
LOCATION:Georgetown Art Center
UID:e.3550.1210
SEQUENCE:3
DTSTAMP:20260421T113651Z
URL:https://business.georgetownchamber.org/events/details/2019-11-georgetown-film-festival-official-poster-unveiling-1210
END:VEVENT

END:VCALENDAR
