BEGIN:VCALENDAR
VERSION:2.0
PRODID:-//ChamberMaster//Event Calendar 2.0//EN
METHOD:PUBLISH
X-PUBLISHED-TTL:P3D
REFRESH-INTERVAL:P3D
CALSCALE:GREGORIAN
BEGIN:VEVENT
DTSTART:20191114T140000Z
DTEND:20191114T180000Z
X-MICROSOFT-CDO-ALLDAYEVENT:FALSE
SUMMARY:2019.11 Governor's Small Business Forum- Central Texas
DESCRIPTION:The Governor's Small Business Forums provide small business owners and aspiring entrepreneurs with timely\, relevant\, actionable advice on how to start\, operate\, grow and sustain their businesses.  The events feature private and public small business resources\, practical solutions\, best practices and expert assistance on a broad range of business topics and challenges.  It is also an opportunity to network with other entrepreneurs\, business owners\, managers\, and business-oriented non-profits\, as well as local\, regional\, state and federal agencies.
X-ALT-DESC;FMTTYPE=text/html:The Governor&#39\;s Small Business Forums provide small business owners and aspiring entrepreneurs with timely\, relevant\, actionable advice on how to start\, operate\, grow and sustain their businesses.&nbsp\; The events feature private and public small business resources\, practical solutions\, best practices and expert assistance on a broad range of business topics and challenges.&nbsp\; It is also an opportunity to network with other entrepreneurs\, business owners\, managers\, and business-oriented non-profits\, as well as local\, regional\, state and federal agencies.&nbsp\;&nbsp\;
LOCATION:Courtyard Marriott Pflugerville 16100 Impact Way Pflugerville\, TX 78660
UID:e.3550.1192
SEQUENCE:3
DTSTAMP:20260421T113116Z
URL:https://business.georgetownchamber.org/events/details/2019-11-governor-s-small-business-forum-central-texas-1192
END:VEVENT

END:VCALENDAR
