BEGIN:VCALENDAR
VERSION:2.0
PRODID:-//ChamberMaster//Event Calendar 2.0//EN
METHOD:PUBLISH
X-PUBLISHED-TTL:P3D
REFRESH-INTERVAL:P3D
CALSCALE:GREGORIAN
BEGIN:VEVENT
DTSTART:20191109T190000Z
DTEND:20191110T030000Z
X-MICROSOFT-CDO-ALLDAYEVENT:FALSE
SUMMARY:2019.11 Grace Episcopal School 3rd Annual Golf Tournament
DESCRIPTION:Grace Episcopal School is hosting the 3rd Annual Golf Tournament.  Check out our website www.graceschool1992.org for team registration forms and sponsorship forms.  All players get lunch\, mulligans\, beverages\, and dinner with entertainment.  If you don't play golf\, join us for dinner.
X-ALT-DESC;FMTTYPE=text/html:Grace Episcopal School is hosting the 3rd Annual Golf Tournament.&nbsp\; Check out our website www.graceschool1992.org for team registration forms and sponsorship forms.&nbsp\; All players get lunch\, mulligans\, beverages\, and dinner with entertainment.&nbsp\; If you don&#39\;t play golf\, join us for dinner.&nbsp\;
LOCATION:Cowan Creek Golf Course & Pavilion
UID:e.3550.1190
SEQUENCE:3
DTSTAMP:20260421T113527Z
URL:https://business.georgetownchamber.org/events/details/2019-11-grace-episcopal-school-3rd-annual-golf-tournament-1190
END:VEVENT

END:VCALENDAR
