BEGIN:VCALENDAR
VERSION:2.0
PRODID:-//ChamberMaster//Event Calendar 2.0//EN
METHOD:PUBLISH
X-PUBLISHED-TTL:P3D
REFRESH-INTERVAL:P3D
CALSCALE:GREGORIAN
BEGIN:VEVENT
DTSTART:20191120T160000Z
DTEND:20191120T220000Z
X-MICROSOFT-CDO-ALLDAYEVENT:FALSE
SUMMARY:2019.11 Holiday Open House
DESCRIPTION:Are you ready to enjoy the magic and joy of the holidays? Second Helping is too! Watch for the unveiling of the 2019 Holiday season at Second Helping's Holiday Open House on Wednesday\, November 20th. With tree decorations\, quilts\, vintage holiday items\, collectibles and gifts we hope to get you in the shopping mood! And\, as always shopping at Second Helping is Shopping for Good!
X-ALT-DESC;FMTTYPE=text/html:Are you ready to enjoy the magic and joy of the holidays? Second Helping is too! Watch for the unveiling of the 2019 Holiday season at Second Helping&#39\;s Holiday Open House on Wednesday\, November 20th. With tree decorations\, quilts\, vintage holiday items\, collectibles and gifts we hope to get you in the shopping mood! And\, as always shopping at Second Helping is Shopping for Good!
LOCATION:Second Helping 3700 Williams Drive Georgetown\, TX 78628
UID:e.3550.1209
SEQUENCE:3
DTSTAMP:20260421T113352Z
URL:https://business.georgetownchamber.org/events/details/2019-11-holiday-open-house-1209
END:VEVENT

END:VCALENDAR
