BEGIN:VCALENDAR
VERSION:2.0
PRODID:-//ChamberMaster//Event Calendar 2.0//EN
METHOD:PUBLISH
X-PUBLISHED-TTL:P3D
REFRESH-INTERVAL:P3D
CALSCALE:GREGORIAN
BEGIN:VEVENT
DTSTART:20191108T000000Z
DTEND:20191108T040000Z
X-MICROSOFT-CDO-ALLDAYEVENT:FALSE
SUMMARY:2019.11 REEL GEORGETOWN: Nana's Secret Recipe
DESCRIPTION:Enjoy complementary wine\, a feature length screening of Nana's Secret Recipe - a film shot in Georgetown\, and a talk-back with filmmakers (Emcee is Jane Estes!) on November 7th\, 6 pm at the historic Palace Theatre! Tickets: bit.ly/REELGEORGETOWN This is the first installment of a unique movie series\, REEL GEORGETOWN\, celebrating locally shot films. All proceeds go right back into the community via Preservation Georgetown's Preservation Fund Grant Program.
X-ALT-DESC;FMTTYPE=text/html:Enjoy complementary wine\, a feature length screening of Nana&rsquo\;s Secret Recipe - a film shot in Georgetown\, and a talk-back with filmmakers (Emcee is Jane Estes!) on November 7th\, 6 pm at the historic Palace Theatre! Tickets: bit.ly/REELGEORGETOWN This is the first installment of a unique movie series\, REEL GEORGETOWN\, celebrating locally shot films. All proceeds go right back into the community via Preservation Georgetown&rsquo\;s Preservation Fund Grant Program.
LOCATION:The Georgetown Palace Theatre
UID:e.3550.1178
SEQUENCE:3
DTSTAMP:20260421T124331Z
URL:https://business.georgetownchamber.org/events/details/2019-11-reel-georgetown-nana-s-secret-recipe-1178
END:VEVENT

END:VCALENDAR
