BEGIN:VCALENDAR
VERSION:2.0
PRODID:-//ChamberMaster//Event Calendar 2.0//EN
METHOD:PUBLISH
X-PUBLISHED-TTL:P3D
REFRESH-INTERVAL:P3D
CALSCALE:GREGORIAN
BEGIN:VEVENT
DTSTART:20191107T150000Z
DTEND:20191107T203000Z
X-MICROSOFT-CDO-ALLDAYEVENT:FALSE
SUMMARY:2019.11 SCORE Women Entrepreneurs Summit - Growing Your Business on a Shoestring
DESCRIPTION:Join the summit to gain practical experience\, get innovative tools and boost your soul to help grow your business. The focus of this program is increasing revenue with a minimal amount of expense. Everyone can get financing when they have lots of money. Let's talk about how to get financing when you really need it.
X-ALT-DESC;FMTTYPE=text/html:<span style="color:rgb(20\, 20\, 20)\; font-family:gotham ssm a\,gotham ssm b\,sans-serif\; font-size:16px">Join the summit to gain practical experience\, get innovative tools and boost your soul to help grow your business. The focus of this program is increasing revenue with a minimal amount of expense. Everyone can get financing when they have lots of money. Let&#39\;s talk about how to get financing when you really need it.</span>
LOCATION:Georgetown Chamber of Commerce Events Center 1 Chamber Way Georgetown\, Texas
UID:e.3550.1176
SEQUENCE:3
DTSTAMP:20260421T113701Z
URL:https://business.georgetownchamber.org/events/details/2019-11-score-women-entrepreneurs-summit-growing-your-business-on-a-shoestring-1176
END:VEVENT

END:VCALENDAR
