BEGIN:VCALENDAR
VERSION:2.0
PRODID:-//ChamberMaster//Event Calendar 2.0//EN
METHOD:PUBLISH
X-PUBLISHED-TTL:P3D
REFRESH-INTERVAL:P3D
CALSCALE:GREGORIAN
BEGIN:VEVENT
DTSTART:20191115T000000Z
DTEND:20191115T030000Z
X-MICROSOFT-CDO-ALLDAYEVENT:FALSE
SUMMARY:2019.11 Sweets\, Treats & Trees
DESCRIPTION:Mark those calendars for the biggest holiday shopping event of the year! The Shops at The Caring Place will transform overnight into a magical wonderland sure to have every holiday item you could imagine! The festive holiday spirit is here\, and you'll find it at The Caring Place! Admission: A nonperishable food item or monetary donation for our Food Pantry!
X-ALT-DESC;FMTTYPE=text/html:Mark those calendars for the biggest holiday shopping event of the year! The Shops at The Caring Place will transform overnight into a magical wonderland sure to have every holiday item you could imagine! The festive holiday spirit is here\, and you&#39\;ll find it at The Caring Place! Admission: A nonperishable food item or monetary donation for our Food Pantry!
LOCATION:The Caring Place 2000 Railroad Ave Georgetown\, TX 78626
UID:e.3550.1208
SEQUENCE:3
DTSTAMP:20260421T113351Z
URL:https://business.georgetownchamber.org/events/details/2019-11-sweets-treats-trees-1208
END:VEVENT

END:VCALENDAR
