BEGIN:VCALENDAR
VERSION:2.0
PRODID:-//ChamberMaster//Event Calendar 2.0//EN
METHOD:PUBLISH
X-PUBLISHED-TTL:P3D
REFRESH-INTERVAL:P3D
CALSCALE:GREGORIAN
BEGIN:VEVENT
DTSTART:20191109T010000Z
DTEND:20191109T030000Z
X-MICROSOFT-CDO-ALLDAYEVENT:FALSE
SUMMARY:2019.11 Texas Bach Festival Fundraiser at BMW of Austin
DESCRIPTION:Join Texas Bach Festival & BMW of Austin for a free concert featuring the Artisan String Quartet.  BMW of Austin will be raffling off thousands of dollars worth of BMW themed gifts\, prizes\, and services to raise money for the Texas Bach Festival.  \n\n\n\nRaffle Prizes Include:\n\n*BMW Luggage\n\n*BMW Watches\n\n*Spa day treatment for the winner's car\n\n\n\nGRAND PRIZE:\n\n*The use of a BMW Convertible for the weekend along with a $100 gift card for a date night. \n\n\n\nComplimentary refreshments\, hors d'oeuvres\, beer and wine to be served.
X-ALT-DESC;FMTTYPE=text/html:Join Texas Bach Festival &amp\; BMW of Austin for a free concert featuring the Artisan String Quartet.&nbsp\; BMW of Austin will be raffling off thousands of dollars worth of BMW themed gifts\, prizes\, and services to raise money for the Texas Bach Festival.&nbsp\;&nbsp\;<br />\n<br />\nRaffle Prizes Include:<br />\n*BMW Luggage<br />\n*BMW Watches<br />\n*Spa day treatment for the winner&#39\;s car<br />\n<br />\nGRAND PRIZE:<br />\n*The use of a BMW Convertible for the weekend along with a $100 gift card for a date night.&nbsp\;<br />\n<br />\nComplimentary refreshments\, hors d&#39\;oeuvres\, beer and wine to be served.&nbsp\;
LOCATION:BMW of Austin 7011 McNeil Drive Austin\, TX 78729
UID:e.3550.1198
SEQUENCE:3
DTSTAMP:20260421T113807Z
URL:https://business.georgetownchamber.org/events/details/2019-11-texas-bach-festival-fundraiser-at-bmw-of-austin-1198
END:VEVENT

END:VCALENDAR
