BEGIN:VCALENDAR
VERSION:2.0
PRODID:-//ChamberMaster//Event Calendar 2.0//EN
METHOD:PUBLISH
X-PUBLISHED-TTL:P3D
REFRESH-INTERVAL:P3D
CALSCALE:GREGORIAN
BEGIN:VEVENT
DTSTART:20191101T230000Z
DTEND:20191102T040000Z
X-MICROSOFT-CDO-ALLDAYEVENT:FALSE
SUMMARY:2019.11 United Way's 80th Birthday Bash
DESCRIPTION:United Way of Williamson County turns 80 years old this year and we are throwing a party to celebrate! \n\n\n\nFriday\, November 1\, 2019\n\n$80 a person/$150 per couple\n\n6:00-7:00pm: VIP Reception/Cocktail Hour\n\n7:00-11:00pm: Program\, Dinner\, Dancing\, Party Games. Music by Caboose the Band. Live & Silent Auction\n\n\n\nCome dressed in your best 80's outfit or cocktail attire.
X-ALT-DESC;FMTTYPE=text/html:United Way of Williamson County turns <u>80 years old this year</u> and we are throwing a party to celebrate!&nbsp\;<br />\n<br />\nFriday\, November 1\, 2019<br />\n$80 a person/$150 per couple<br />\n6:00-7:00pm: VIP Reception/Cocktail Hour<br />\n7:00-11:00pm: Program\, Dinner\, Dancing\, Party Games. Music by Caboose the Band. Live &amp\; Silent Auction<br />\n<br />\nCome dressed in your best 80&#39\;s outfit or cocktail attire.&nbsp\;
LOCATION:Sheraton Austin Georgetown Hotel & Conference Center 1101 Woodlawn Avenue Georgetown\, TX 78628
UID:e.3550.1185
SEQUENCE:3
DTSTAMP:20260421T113422Z
URL:https://business.georgetownchamber.org/events/details/2019-11-united-way-s-80th-birthday-bash-1185
END:VEVENT

END:VCALENDAR
