BEGIN:VCALENDAR
VERSION:2.0
PRODID:-//ChamberMaster//Event Calendar 2.0//EN
METHOD:PUBLISH
X-PUBLISHED-TTL:P3D
REFRESH-INTERVAL:P3D
CALSCALE:GREGORIAN
BEGIN:VEVENT
DTSTART:20191111T170000Z
DTEND:20191111T180000Z
X-MICROSOFT-CDO-ALLDAYEVENT:FALSE
SUMMARY:2019.11 Veterans Day Ceremony
DESCRIPTION:Veterans Day Ceremony\n\n\n\nKeynote Speaker \n\nMajor General Tracy R. Norris\n\nThe Adjutant General\, Texas National Guard\n\n\n\nThe annual Veterans Day Ceremony is a special event open to the public honoring all those veterans who have served in our military forces\, as well as those men and women who are serving today.  The ceremony includes a dedication to Gold Star families and a musical salute to our armed forces. \n\n\n\nParking & Seating\n\nParking available at the Sun City Social Center at 2 Texas Drive and across the street at the Activities Center at 1 Texas Drive.  Seven hundred folding chairs will be placed at the Memorial or guests are invited to bring a folding chair and sit under the trees. \n\nThe Community Association will serve refreshments on the Social Center patio after the ceremony. \n\n*In the event of rain\, the ceremony will be moved to the Ballroom which will have limited seating.
X-ALT-DESC;FMTTYPE=text/html:<u><span style="font-size:14px\;"><strong>Veterans Day Ceremony</strong></span></u><br />\n<br />\n<strong><u>Keynote Speaker&nbsp\;</u></strong><br />\nMajor General Tracy R. Norris<br />\nThe Adjutant General\, Texas National Guard<br />\n<br />\nThe annual Veterans Day Ceremony is a special event open to the public honoring all those veterans who have served in our military forces\, as well as those men and women who are serving today.&nbsp\; The ceremony includes a dedication to Gold Star families and a musical salute to our armed forces.&nbsp\;<br />\n<br />\n<u><strong>Parking &amp\; Seating</strong></u><br />\nParking available at the Sun City Social Center at 2 Texas Drive and across the street at the Activities Center at 1 Texas Drive.&nbsp\; Seven hundred folding chairs will be placed at the Memorial or guests are invited to bring a folding chair and sit under the trees.&nbsp\;<br />\nThe Community Association will serve refreshments on the Social Center patio after the ceremony.&nbsp\;<br />\n*In the event of rain\, the ceremony will be moved to the Ballroom which will have limited seating.&nbsp\;
LOCATION:Georgetown-Williamson County Veterans Memorial Plaza 2 Texas Drive Georgetown\, TX 78633
UID:e.3550.1191
SEQUENCE:3
DTSTAMP:20260421T113401Z
URL:https://business.georgetownchamber.org/events/details/2019-11-veterans-day-ceremony-1191
END:VEVENT

END:VCALENDAR
