BEGIN:VCALENDAR
VERSION:2.0
PRODID:-//ChamberMaster//Event Calendar 2.0//EN
METHOD:PUBLISH
X-PUBLISHED-TTL:P3D
REFRESH-INTERVAL:P3D
CALSCALE:GREGORIAN
BEGIN:VEVENT
DTSTART;VALUE=DATE:20191209
DTEND;VALUE=DATE:20191214
TRANSP:TRANSPARENT
X-MICROSOFT-CDO-ALLDAYEVENT:TRUE
SUMMARY:2019.12 Aurora Medical Spa Grand Opening Week!
DESCRIPTION:Aurora Medical Spa is officially open! Now it's time to come celebrate with us all week! We will have specials\, food and prizes throughout the week. Appointments are first come\, first serve. We look forward to seeing you!
X-ALT-DESC;FMTTYPE=text/html:Aurora Medical Spa is officially open! Now it&#39\;s time to come celebrate with us all week! We will have specials\, food and prizes throughout the week. Appointments are first come\, first serve. We look forward to seeing you!
LOCATION:1013 W University Ave Suite 193\, Georgetown\, TX 78628
UID:e.3550.1350
SEQUENCE:3
DTSTAMP:20260425T191340Z
URL:https://business.georgetownchamber.org/events/details/2019-12-aurora-medical-spa-grand-opening-week-1350
END:VEVENT

END:VCALENDAR
