BEGIN:VCALENDAR
VERSION:2.0
PRODID:-//ChamberMaster//Event Calendar 2.0//EN
METHOD:PUBLISH
X-PUBLISHED-TTL:P3D
REFRESH-INTERVAL:P3D
CALSCALE:GREGORIAN
BEGIN:VEVENT
DTSTART;VALUE=DATE:20191228
DTEND;VALUE=DATE:20191229
TRANSP:TRANSPARENT
X-MICROSOFT-CDO-ALLDAYEVENT:TRUE
SUMMARY:2019.12 Chapel for 14
DESCRIPTION:14 couples\, one day\, 14 weddings. A prime celebration without the premium price.\n\n\n\nLone Star Oaks is pleased to offer 14 couples a complete wedding in a group setting. We will have 14 couples getting married in a group ceremony with a complete celebration to follow for one amazing price. This package includes the following:\n\n\n\nEach couple can invite up to 14 guests\n\nBouquet and Boutonniere\n\nIndividual walk down the aisle to meet your fianc \n\nGroup marriage ceremony\n\nIndividual time with photographer plus all portraits from the day's events\n\nCocktail hour including beer\, wine and appetizers\n\nIndividual grand entrance with announcement by DJ\n\nBuffet meal for all couples and their guests\n\nDecorated tables\n\n4 hours of bar service including beer\, wine and frozen margaritas\n\nDJ for the entire event\n\nGroup first dance\n\nGroup Father/daughter dance\n\nGroup Mother/son dance\n\nCake\n\nIndividual cake cutting and champagne toast with photographer\n\nReception with dancing\n\nGroup send off with bubbles\n\n\n\n$2\,500 per couple\n\n\n\nTo sign up to be part of this amazing day please go to our website at www.lonestaroaks.com and fill out the contact page or call Mary at (832)483-6115. \n\n\n\nPhotography provided by Blu Tree Studios Photography\n\nCatering provided by Southern Grace Catering\n\nDJ services provided by Groove Line Productions\n\nFlorals provided by Lone Star Oaks
X-ALT-DESC;FMTTYPE=text/html:<span style="color:rgb(29\, 33\, 41)\; font-family:system-ui\,-apple-system\,blinkmacsystemfont\,.sfnstext-regular\,sans-serif\; font-size:14px">14 couples\, one day\, 14 weddings. A prime celebration without the premium price.</span><br />\n<br />\n<span style="color:rgb(29\, 33\, 41)\; font-family:system-ui\,-apple-system\,blinkmacsystemfont\,.sfnstext-regular\,sans-serif\; font-size:14px">Lone Star Oaks is pleased to offer 14 couples a complete wedding in a group setting. We will have 14 couples getting married in a group ceremony with a complete celebration to follow for one amazing price. This package includes the following:</span><br />\n<br />\n<span style="color:rgb(29\, 33\, 41)\; font-family:system-ui\,-apple-system\,blinkmacsystemfont\,.sfnstext-regular\,sans-serif\; font-size:14px">Each couple can invite up to 14 guests</span><br />\n<span style="color:rgb(29\, 33\, 41)\; font-family:system-ui\,-apple-system\,blinkmacsystemfont\,.sfnstext-regular\,sans-serif\; font-size:14px">Bouquet and Boutonniere</span><br />\n<span style="color:rgb(29\, 33\, 41)\; font-family:system-ui\,-apple-system\,blinkmacsystemfont\,.sfnstext-regular\,sans-serif\; font-size:14px">Individual walk down the aisle to meet your fianc&eacute\;</span><br />\n<span style="color:rgb(29\, 33\, 41)\; font-family:system-ui\,-apple-system\,blinkmacsystemfont\,.sfnstext-regular\,sans-serif\; font-size:14px">Group marriage ceremony</span><br />\n<span style="color:rgb(29\, 33\, 41)\; font-family:system-ui\,-apple-system\,blinkmacsystemfont\,.sfnstext-regular\,sans-serif\; font-size:14px">Individual time with photographer plus all portraits from the day&rsquo\;s events</span><br />\n<span style="color:rgb(29\, 33\, 41)\; font-family:system-ui\,-apple-system\,blinkmacsystemfont\,.sfnstext-regular\,sans-serif\; font-size:14px">Cocktail hour including beer\, wine and appetizers</span><br />\n<span style="color:rgb(29\, 33\, 41)\; font-family:system-ui\,-apple-system\,blinkmacsystemfont\,.sfnstext-regular\,sans-serif\; font-size:14px">Individual grand entrance with announcement by DJ</span><br />\n<span style="color:rgb(29\, 33\, 41)\; font-family:system-ui\,-apple-system\,blinkmacsystemfont\,.sfnstext-regular\,sans-serif\; font-size:14px">Buffet meal for all couples and their guests</span><br />\n<span style="color:rgb(29\, 33\, 41)\; font-family:system-ui\,-apple-system\,blinkmacsystemfont\,.sfnstext-regular\,sans-serif\; font-size:14px">Decorated tables</span><br />\n<span style="color:rgb(29\, 33\, 41)\; font-family:system-ui\,-apple-system\,blinkmacsystemfont\,.sfnstext-regular\,sans-serif\; font-size:14px">4 hours of bar service including beer\, wine and frozen margaritas</span><br />\n<span style="color:rgb(29\, 33\, 41)\; font-family:system-ui\,-apple-system\,blinkmacsystemfont\,.sfnstext-regular\,sans-serif\; font-size:14px">DJ for the entire event</span><br />\n<span style="color:rgb(29\, 33\, 41)\; font-family:system-ui\,-apple-system\,blinkmacsystemfont\,.sfnstext-regular\,sans-serif\; font-size:14px">Group first dance</span><br />\n<span style="color:rgb(29\, 33\, 41)\; font-family:system-ui\,-apple-system\,blinkmacsystemfont\,.sfnstext-regular\,sans-serif\; font-size:14px">Group Father/daughter dance</span><br />\n<span style="color:rgb(29\, 33\, 41)\; font-family:system-ui\,-apple-system\,blinkmacsystemfont\,.sfnstext-regular\,sans-serif\; font-size:14px">Group Mother/son dance</span><br />\n<span style="color:rgb(29\, 33\, 41)\; font-family:system-ui\,-apple-system\,blinkmacsystemfont\,.sfnstext-regular\,sans-serif\; font-size:14px">Cake</span><br />\n<span style="color:rgb(29\, 33\, 41)\; font-family:system-ui\,-apple-system\,blinkmacsystemfont\,.sfnstext-regular\,sans-serif\; font-size:14px">Individual cake cutting and champagne toast with photographer</span><br />\n<span style="color:rgb(29\, 33\, 41)\; font-family:system-ui\,-apple-system\,blinkmacsystemfont\,.sfnstext-regular\,sans-serif\; font-size:14px">Reception with dancing</span><br />\n<span style="color:rgb(29\, 33\, 41)\; font-family:system-ui\,-apple-system\,blinkmacsystemfont\,.sfnstext-regular\,sans-serif\; font-size:14px">Group send off with bubbles</span><br />\n<br />\n<span style="color:rgb(29\, 33\, 41)\; font-family:system-ui\,-apple-system\,blinkmacsystemfont\,.sfnstext-regular\,sans-serif\; font-size:14px">$2\,500 per couple</span><br />\n<br />\n<span style="color:rgb(29\, 33\, 41)\; font-family:system-ui\,-apple-system\,blinkmacsystemfont\,.sfnstext-regular\,sans-serif\; font-size:14px">To sign up to be part of this amazing day please go to our website at </span><a href="http://www.lonestaroaks.com/?fbclid=IwAR0OMU7P_eayi-aifIrGiV-jlds83vSi1I10FVuVu4Y3QrouLFWT7WqBhF4" rel="nofollow noopener" style="color: rgb(56\, 88\, 152)\; cursor: pointer\; text-decoration: none\; font-family: system-ui\, -apple-system\, BlinkMacSystemFont\, &quot\;.SFNSText-Regular&quot\;\, sans-serif\; font-size: 14px\; white-space: pre-wrap\;" target="_blank">www.lonestaroaks.com</a><span style="color:rgb(29\, 33\, 41)\; font-family:system-ui\,-apple-system\,blinkmacsystemfont\,.sfnstext-regular\,sans-serif\; font-size:14px"> and fill out the contact page or call Mary at (832)483-6115. </span><br />\n<br />\n<span style="color:rgb(29\, 33\, 41)\; font-family:system-ui\,-apple-system\,blinkmacsystemfont\,.sfnstext-regular\,sans-serif\; font-size:14px">Photography provided by </span><a href="https://www.facebook.com/blutreestudios/" style="color: rgb(56\, 88\, 152)\; cursor: pointer\; text-decoration: none\; font-family: system-ui\, -apple-system\, BlinkMacSystemFont\, &quot\;.SFNSText-Regular&quot\;\, sans-serif\; font-size: 14px\; white-space: pre-wrap\;" target="_blank">Blu Tree Studios Photography</a><br />\n<span style="color:rgb(29\, 33\, 41)\; font-family:system-ui\,-apple-system\,blinkmacsystemfont\,.sfnstext-regular\,sans-serif\; font-size:14px">Catering provided by Southern Grace Catering</span><br />\n<span style="color:rgb(29\, 33\, 41)\; font-family:system-ui\,-apple-system\,blinkmacsystemfont\,.sfnstext-regular\,sans-serif\; font-size:14px">DJ services provided by </span><a href="https://www.facebook.com/groovelineproductions/" style="color: rgb(56\, 88\, 152)\; cursor: pointer\; text-decoration: none\; font-family: system-ui\, -apple-system\, BlinkMacSystemFont\, &quot\;.SFNSText-Regular&quot\;\, sans-serif\; font-size: 14px\; white-space: pre-wrap\;" target="_blank">Groove Line Productions</a><br />\n<span style="color:rgb(29\, 33\, 41)\; font-family:system-ui\,-apple-system\,blinkmacsystemfont\,.sfnstext-regular\,sans-serif\; font-size:14px">Florals provided by </span><a href="https://www.facebook.com/LoneStarOaks/" style="color: rgb(56\, 88\, 152)\; cursor: pointer\; text-decoration: none\; font-family: system-ui\, -apple-system\, BlinkMacSystemFont\, &quot\;.SFNSText-Regular&quot\;\, sans-serif\; font-size: 14px\; white-space: pre-wrap\;" target="_blank">Lone Star Oaks</a>
LOCATION:Lone Star Oaks 3354 County Rd. 236 Liberty Hill\, Texas 78642
UID:e.3550.1346
SEQUENCE:3
DTSTAMP:20260425T190955Z
URL:https://business.georgetownchamber.org/events/details/2019-12-chapel-for-14-1346
END:VEVENT

END:VCALENDAR
