BEGIN:VCALENDAR
VERSION:2.0
PRODID:-//ChamberMaster//Event Calendar 2.0//EN
METHOD:PUBLISH
X-PUBLISHED-TTL:P3D
REFRESH-INTERVAL:P3D
CALSCALE:GREGORIAN
BEGIN:VEVENT
DTSTART:20191211T230000Z
DTEND:20191212T010000Z
X-MICROSOFT-CDO-ALLDAYEVENT:FALSE
SUMMARY:2019.12 Christmas Open House
DESCRIPTION:Join us for a Christmas Open House with Santa. All are welcome to this free event! Pictures with Santa | Gingerbread Decorating Please help us support the Blue Santa Toy Drive *Unwrapped toys and monetary donations will be accepted through December 11th.
X-ALT-DESC;FMTTYPE=text/html:Join us for a Christmas Open House with Santa. All are welcome to this free event! Pictures with Santa | Gingerbread Decorating Please help us support the Blue Santa Toy Drive *Unwrapped toys and monetary donations will be accepted through December 11th.
LOCATION:SouthStar Bank Georgetown 4535 Williams Drive | Georgetown\, TX 78633
UID:e.3550.1352
SEQUENCE:3
DTSTAMP:20260425T191101Z
URL:https://business.georgetownchamber.org/events/details/2019-12-christmas-open-house-1352
END:VEVENT

END:VCALENDAR
