BEGIN:VCALENDAR
VERSION:2.0
PRODID:-//ChamberMaster//Event Calendar 2.0//EN
METHOD:PUBLISH
X-PUBLISHED-TTL:P3D
REFRESH-INTERVAL:P3D
CALSCALE:GREGORIAN
BEGIN:VEVENT
DTSTART:20191206T190000Z
DTEND:20191206T220000Z
X-MICROSOFT-CDO-ALLDAYEVENT:FALSE
SUMMARY:2019.12 Free Skin Cancer Screening
DESCRIPTION:FREE\n\nSkin Cancer Screening\n\nDo you have any of the following? Skin exposed to the sun or tanning salon? Family history of melanoma or other skin cancer? Itching\, changing moles or other skin lesions? St. David's Georgetown Hospital will host a FREE melanoma skin cancer screening by a board certified dermatologist to help people identify problem areas and educate them on proper sun protection.
X-ALT-DESC;FMTTYPE=text/html:<p>&nbsp\;</p>\n\n<p><strong>FREE</strong></p>\n\n<p><strong>Skin Cancer Screening</strong></p>\n\n<p>Do you have any of the following? Skin exposed to the sun or tanning salon? Family history of melanoma or other skin cancer? Itching\, changing moles or other skin lesions? <strong>St. David&rsquo\;s Georgetown Hospital </strong>will host a <strong>FREE </strong>melanoma skin cancer screening by a board certified dermatologist to help people identify problem areas and educate them on proper sun protection.<br />\n<br />\n&nbsp\;</p>\n
LOCATION:St. David's Georgetown Hospital 2000 Scenic Drive\, Georgetown\, TX
UID:e.3550.1415
SEQUENCE:3
DTSTAMP:20260425T191229Z
URL:https://business.georgetownchamber.org/events/details/2019-12-free-skin-cancer-screening-1415
END:VEVENT

END:VCALENDAR
