BEGIN:VCALENDAR
VERSION:2.0
PRODID:-//ChamberMaster//Event Calendar 2.0//EN
METHOD:PUBLISH
X-PUBLISHED-TTL:P3D
REFRESH-INTERVAL:P3D
CALSCALE:GREGORIAN
BEGIN:VEVENT
DTSTART:20191206T230000Z
DTEND:20191207T010000Z
X-MICROSOFT-CDO-ALLDAYEVENT:FALSE
SUMMARY:2019.12 Home For the Holidays
DESCRIPTION:While you're at the Christmas Stroll\, stop by Century 21 Hellmann Stribling for some food\, drinks\, holiday cheer\, and to see us!  We will have a table talking about everything we do in our drone business\, from home inspections to listing your house on the market\, and everything in between.
X-ALT-DESC;FMTTYPE=text/html:While you&#39\;re at the Christmas Stroll\, stop by Century 21 Hellmann Stribling for some food\, drinks\, holiday cheer\, and to see us!&nbsp\; We will have a table talking about everything we do in our drone business\, from home inspections to listing your house on the market\, and everything in between.&nbsp\;&nbsp\;
LOCATION:Century 21 Hellmann Stribling 801 S. Main St. Georgetown\, TX 78626
UID:e.3550.1355
SEQUENCE:3
DTSTAMP:20260425T191107Z
URL:https://business.georgetownchamber.org/events/details/2019-12-home-for-the-holidays-1355
END:VEVENT

END:VCALENDAR
