BEGIN:VCALENDAR
VERSION:2.0
PRODID:-//ChamberMaster//Event Calendar 2.0//EN
METHOD:PUBLISH
X-PUBLISHED-TTL:P3D
REFRESH-INTERVAL:P3D
CALSCALE:GREGORIAN
BEGIN:VEVENT
DTSTART:20191212T233000Z
DTEND:20191213T010000Z
X-MICROSOFT-CDO-ALLDAYEVENT:FALSE
SUMMARY:2019.12 Legacy of Trees Gala
DESCRIPTION:All are invited to this social event\, where you will enjoy an elegant affair with an abundance of decadent treats and festive cocktails. Participate in a live auction to bid on beautifully decorated holiday trees donated by local businesses and organizations. Proceeds will benefit ROCK\, a local nonprofit organization that offers equine-assisted programs for children with special needs\, veterans and service members. There will be a guest appearance by the sweet\, yet sassy ROCK mascot\, miniature horse PEGGY SUE! Enjoy some old time Rock with a live performance by Stone Hill Band.
X-ALT-DESC;FMTTYPE=text/html:All are invited to this social event\, where you will enjoy an elegant affair with an abundance of decadent treats and festive cocktails. Participate in a live auction to bid on beautifully decorated holiday trees donated by local businesses and organizations. Proceeds will benefit ROCK\, a local nonprofit organization that offers equine-assisted programs for children with special needs\, veterans and service members. There will be a guest appearance by the sweet\, yet sassy ROCK mascot\, miniature horse PEGGY SUE! Enjoy some old time Rock with a live performance by Stone Hill Band.
LOCATION:Legacy at Georgetown 4907 Williams Dr. Georgetown\, TX 78633
UID:e.3550.1354
SEQUENCE:3
DTSTAMP:20260425T191223Z
URL:https://business.georgetownchamber.org/events/details/2019-12-legacy-of-trees-gala-1354
END:VEVENT

END:VCALENDAR
