BEGIN:VCALENDAR
VERSION:2.0
PRODID:-//ChamberMaster//Event Calendar 2.0//EN
METHOD:PUBLISH
X-PUBLISHED-TTL:P3D
REFRESH-INTERVAL:P3D
CALSCALE:GREGORIAN
BEGIN:VEVENT
DTSTART:20191207T000000Z
DTEND:20191207T030000Z
X-MICROSOFT-CDO-ALLDAYEVENT:FALSE
SUMMARY:2019.12 Service of Remembrance
DESCRIPTION:The staff of Cook-Walden Davis Funeral Home invites you and your family to our annual Service of Remembrance. Following the service there will be refreshments\, seasonal music\, and a time for fellowship. In celebration of your loved one's life\, please bring an ornament to be placed on our Tree of Remembrance. Please bring an unwrapped toy to be donated to Georgetown Police Department's Operation Blue Santa. RSVP to 512-863-2564 by Tuesday December 3rd\, please.
X-ALT-DESC;FMTTYPE=text/html:The staff of Cook-Walden Davis Funeral Home invites you and your family to our annual Service of Remembrance. Following the service there will be refreshments\, seasonal music\, and a time for fellowship. In celebration of your loved one&#39\;s life\, please bring an ornament to be placed on our Tree of Remembrance. Please bring an unwrapped toy to be donated to Georgetown Police Department&#39\;s Operation Blue Santa. RSVP to 512-863-2564 by Tuesday December 3rd\, please.
LOCATION:Cook Walden Davis Funeral Home 2900 Williams Drive Georgetown\, TX 78628
UID:e.3550.1414
SEQUENCE:3
DTSTAMP:20260425T191646Z
URL:https://business.georgetownchamber.org/events/details/2019-12-service-of-remembrance-1414
END:VEVENT

END:VCALENDAR
