BEGIN:VCALENDAR
VERSION:2.0
PRODID:-//ChamberMaster//Event Calendar 2.0//EN
METHOD:PUBLISH
X-PUBLISHED-TTL:P3D
REFRESH-INTERVAL:P3D
CALSCALE:GREGORIAN
BEGIN:VEVENT
DTSTART:20200116T181500Z
DTEND:20200116T190000Z
X-MICROSOFT-CDO-ALLDAYEVENT:FALSE
SUMMARY:2020.1 Ribbon Cutting
DESCRIPTION:Ribbon Cutting for Jonah Salon located at 125 Jonah Loop\, Georgetown\, TX. 78626. \n\n\n\nRibbon Cuttings are an excellent opportunity to celebrate milestones with members of the Georgetown Chamber. Ribbon Cuttings are free and open to the public.
X-ALT-DESC;FMTTYPE=text/html:Ribbon Cutting for Jonah Salon located at 125 Jonah Loop\, Georgetown\, TX. 78626.&nbsp\;<br />\n<br />\nRibbon Cuttings are an excellent opportunity to celebrate milestones with members of the Georgetown Chamber. Ribbon Cuttings are free and open to the public.&nbsp\;&nbsp\;&nbsp\;&nbsp\;&nbsp\;
LOCATION:Jonah Salon 125 Jonah Loop Georgetown\, TX. 78626
UID:e.3550.1487
SEQUENCE:3
DTSTAMP:20260425T163059Z
URL:https://business.georgetownchamber.org/events/details/2020-1-ribbon-cutting-01-16-2020-1487
END:VEVENT

END:VCALENDAR
