BEGIN:VCALENDAR
VERSION:2.0
PRODID:-//ChamberMaster//Event Calendar 2.0//EN
METHOD:PUBLISH
X-PUBLISHED-TTL:P3D
REFRESH-INTERVAL:P3D
CALSCALE:GREGORIAN
BEGIN:VEVENT
DTSTART:20200121T181500Z
DTEND:20200121T190000Z
X-MICROSOFT-CDO-ALLDAYEVENT:FALSE
SUMMARY:2020.1 Ribbon Cutting
DESCRIPTION:Ribbon Cutting for Willie's Grill & Icehouse located at 1301 S IH 35\, Georgetown\, TX. 78626. \n\n\n\nRibbon Cuttings are an excellent opportunity to celebrate milestones with members of the Georgetown Chamber. Ribbon Cuttings are free and open to the public.
X-ALT-DESC;FMTTYPE=text/html:Ribbon Cutting for Willie&#39\;s Grill &amp\; Icehouse located at 1301 S IH 35\, Georgetown\, TX. 78626.&nbsp\;<br />\n<br />\nRibbon Cuttings are an excellent opportunity to celebrate milestones with members of the Georgetown Chamber. Ribbon Cuttings are free and open to the public.&nbsp\;&nbsp\;&nbsp\;&nbsp\;&nbsp\;
LOCATION:Willie's Grill & Icehouse 1301 S. IH 35 (Wolf Crossing) Georgetown\, TX. 78626
UID:e.3550.1501
SEQUENCE:3
DTSTAMP:20260425T150436Z
URL:https://business.georgetownchamber.org/events/details/2020-1-ribbon-cutting-01-21-2020-1501
END:VEVENT

END:VCALENDAR
