BEGIN:VCALENDAR
VERSION:2.0
PRODID:-//ChamberMaster//Event Calendar 2.0//EN
METHOD:PUBLISH
X-PUBLISHED-TTL:P3D
REFRESH-INTERVAL:P3D
CALSCALE:GREGORIAN
BEGIN:VEVENT
DTSTART:20200204T231500Z
DTEND:20200205T000000Z
X-MICROSOFT-CDO-ALLDAYEVENT:FALSE
SUMMARY:2020.2 Ribbon Cutting
DESCRIPTION:Ribbon Cutting for Poppy's Playroom located at 2534 Shell Rd Suite C\, Georgetown\, TX. 78628 \n\n\n\nRibbon Cuttings are an excellent opportunity to celebrate milestones with members of the Georgetown Chamber. Ribbon Cuttings are free and open to the public.
X-ALT-DESC;FMTTYPE=text/html:Ribbon Cutting for Poppy&#39\;s Playroom located at&nbsp\;2534 Shell Rd Suite C\, Georgetown\, TX. 78628&nbsp\;<br />\n<br />\nRibbon Cuttings are an excellent opportunity to celebrate milestones with members of the Georgetown Chamber. Ribbon Cuttings are free and open to the public.&nbsp\;&nbsp\;&nbsp\;&nbsp\;&nbsp\;
LOCATION:Poppy's Playroom 2534 Shell Rd.Suite C Georgetown\, TX. 78628
UID:e.3550.1495
SEQUENCE:3
DTSTAMP:20260425T135826Z
URL:https://business.georgetownchamber.org/events/details/2020-2-ribbon-cutting-02-04-2020-1495
END:VEVENT

END:VCALENDAR
