BEGIN:VCALENDAR
VERSION:2.0
PRODID:-//ChamberMaster//Event Calendar 2.0//EN
METHOD:PUBLISH
X-PUBLISHED-TTL:P3D
REFRESH-INTERVAL:P3D
CALSCALE:GREGORIAN
BEGIN:VEVENT
DTSTART:20200205T230000Z
DTEND:20200206T000000Z
X-MICROSOFT-CDO-ALLDAYEVENT:FALSE
SUMMARY:2020.2 Ribbon Cutting
DESCRIPTION:Ribbon Cutting for 2020 market Scratch Kitchen & Bar located at 1500 Rivery Blvd. #1100\,Georgetown\, TX. 78628. \n\n\n\nRibbon Cuttings are an excellent opportunity to celebrate milestones with members of the Georgetown Chamber. Ribbon Cuttings are free and open to the public.
X-ALT-DESC;FMTTYPE=text/html:Ribbon Cutting for 2020 market Scratch Kitchen &amp\; Bar located at 1500 Rivery Blvd. #1100\,Georgetown\, TX. 78628.&nbsp\;<br />\n<br />\nRibbon Cuttings are an excellent opportunity to celebrate milestones with members of the Georgetown Chamber. Ribbon Cuttings are free and open to the public.&nbsp\;&nbsp\;&nbsp\;&nbsp\;&nbsp\;
LOCATION:2020 Market Scratch Kitchen & Bar 1500 Rivery Blvd #1100 Georgetown\, TX. 78628
UID:e.3550.1531
SEQUENCE:3
DTSTAMP:20260425T135902Z
URL:https://business.georgetownchamber.org/events/details/2020-2-ribbon-cutting-02-05-2020-1531
END:VEVENT

END:VCALENDAR
