BEGIN:VCALENDAR
VERSION:2.0
PRODID:-//ChamberMaster//Event Calendar 2.0//EN
METHOD:PUBLISH
X-PUBLISHED-TTL:P3D
REFRESH-INTERVAL:P3D
CALSCALE:GREGORIAN
BEGIN:VEVENT
DTSTART:20200220T151500Z
DTEND:20200220T160000Z
X-MICROSOFT-CDO-ALLDAYEVENT:FALSE
SUMMARY:2020.2 Ribbon Cutting
DESCRIPTION:Ribbon Cutting for First Watch Daytime Cafe at (Wolf Crossing) 1225 W. University Ave\, Ste.135\, Georgetown\, TX. 78626. \n\n\n\nRibbon Cuttings are an excellent opportunity to celebrate milestones with members of the Georgetown Chamber. Ribbon Cuttings are free and open to the public.
X-ALT-DESC;FMTTYPE=text/html:Ribbon Cutting for First Watch Daytime Cafe at (Wolf Crossing)&nbsp\;<span style="color: rgb(68\, 68\, 68)\; font-family: &quot\;Open Sans&quot\;\, sans-serif\; font-size: 14px\; background-color: rgb(255\, 255\, 255)\;">1225 W. University Ave\, Ste.135</span>\, Georgetown\, TX. 78626.&nbsp\;<br />\n<br />\nRibbon Cuttings are an excellent opportunity to celebrate milestones with members of the Georgetown Chamber. Ribbon Cuttings are free and open to the public.&nbsp\;&nbsp\;&nbsp\;&nbsp\;&nbsp\;
LOCATION:First Watch Daytime Cafe 1225 W. University Ave Ste. 135 Georgetown\, TX. 78626
UID:e.3550.1514
SEQUENCE:3
DTSTAMP:20260425T135841Z
URL:https://business.georgetownchamber.org/events/details/2020-2-ribbon-cutting-02-20-2020-1514
END:VEVENT

END:VCALENDAR
