BEGIN:VCALENDAR
VERSION:2.0
PRODID:-//ChamberMaster//Event Calendar 2.0//EN
METHOD:PUBLISH
X-PUBLISHED-TTL:P3D
REFRESH-INTERVAL:P3D
CALSCALE:GREGORIAN
BEGIN:VEVENT
DTSTART:20200225T231500Z
DTEND:20200226T000000Z
X-MICROSOFT-CDO-ALLDAYEVENT:FALSE
SUMMARY:2020.2 Ribbon Cutting
DESCRIPTION:Ribbon Cutting for Georgetown Interventional Pain  located at 1900 Scenic Dr. Ste.1108 Georgetown TX. 78626. \n\n\n\nRibbon Cuttings are an excellent opportunity to celebrate milestones with members of the Georgetown Chamber. Ribbon Cuttings are free and open to the public.
X-ALT-DESC;FMTTYPE=text/html:Ribbon Cutting for Georgetown Interventional Pain&nbsp\; located at 1900 Scenic Dr. Ste.1108 Georgetown TX. 78626.&nbsp\;<br />\n<br />\nRibbon Cuttings are an excellent opportunity to celebrate milestones with members of the Georgetown Chamber. Ribbon Cuttings are free and open to the public.&nbsp\;&nbsp\;&nbsp\;&nbsp\;&nbsp\;
LOCATION:Georgetown Interventional Pain 1900 Scenic Dr. Ste. 1108 Georgetown\, TX. 78626
UID:e.3550.1520
SEQUENCE:3
DTSTAMP:20260425T135840Z
URL:https://business.georgetownchamber.org/events/details/2020-2-ribbon-cutting-02-25-2020-1520
END:VEVENT

END:VCALENDAR
