BEGIN:VCALENDAR
VERSION:2.0
PRODID:-//ChamberMaster//Event Calendar 2.0//EN
METHOD:PUBLISH
X-PUBLISHED-TTL:P3D
REFRESH-INTERVAL:P3D
CALSCALE:GREGORIAN
BEGIN:VEVENT
DTSTART:20210504T160000Z
DTEND:20210504T170000Z
X-MICROSOFT-CDO-ALLDAYEVENT:FALSE
SUMMARY:2020.5 Marketing Chamber Circle
DESCRIPTION:Topic: Google & Apple Updates - How does it affect your small business online results\n\n\n\nSpeaker: Sheira Argote\, Calamar Designs\n\n\n\nThis is a free monthly meeting that discusses something related to marketing.
X-ALT-DESC;FMTTYPE=text/html:Topic: Google &amp\; Apple Updates - How does it affect your small business online results<br />\n<br />\nSpeaker: Sheira Argote\, Calamar Designs<br />\n<br />\nThis is a free monthly meeting that discusses something related to marketing.
LOCATION:Zoom
UID:e.3550.2754
SEQUENCE:3
DTSTAMP:20260424T180842Z
URL:https://business.georgetownchamber.org/events/details/2020-5-marketing-chamber-circle-2754
END:VEVENT

END:VCALENDAR
