BEGIN:VCALENDAR
VERSION:2.0
PRODID:-//ChamberMaster//Event Calendar 2.0//EN
METHOD:PUBLISH
X-PUBLISHED-TTL:P3D
REFRESH-INTERVAL:P3D
CALSCALE:GREGORIAN
BEGIN:VEVENT
DTSTART:20210504T170000Z
DTEND:20210504T180000Z
X-MICROSOFT-CDO-ALLDAYEVENT:FALSE
SUMMARY:2021.5 Home Based Businesses Chamber Circle
DESCRIPTION:Networking\, education\, and support for businesses without a commercial address. Open to members and non-members.
X-ALT-DESC;FMTTYPE=text/html:Networking\, education\, and support for businesses without a commercial address. Open to members and non-members.
LOCATION:Sweet Lemon Kitchen (outside if weather permits\, inside if not) 812 S Church St\, Georgetown
UID:e.3550.2715
SEQUENCE:3
DTSTAMP:20260424T180859Z
URL:https://business.georgetownchamber.org/events/details/2021-5-home-based-businesses-chamber-circle-2715
END:VEVENT

END:VCALENDAR
