BEGIN:VCALENDAR
VERSION:2.0
PRODID:-//ChamberMaster//Event Calendar 2.0//EN
METHOD:PUBLISH
X-PUBLISHED-TTL:P3D
REFRESH-INTERVAL:P3D
CALSCALE:GREGORIAN
BEGIN:VEVENT
DTSTART:20210504T140000Z
DTEND:20210504T153000Z
X-MICROSOFT-CDO-ALLDAYEVENT:FALSE
SUMMARY:2021.5 "Interviewing\, Hiring\, & Firing" - (Virtual) Chamber University
DESCRIPTION:Topic: Interviewing\, Hiring\, & Firing\n\nSpeaker: Dave Holden\, Radiation Detection Company\n\n\n\nAbout the Presentation:\n\nLearn HOW to:\n\n*interview for both competence and character\n\n*hire the right candidate at the right time with confidence\n\n*establish an effective progressive discipline and reward culture\n\n*terminate with Grace\, Tact and Diplomacy\n\n\n\nAbout the Speaker:\n\n\n\n\n\nAbout the Series:\n\nThis is part two of a three-part series designed to share soft skills with entry-level managers but in a way that would be beneficial for non-managers and more experienced managers. Each presentation is given by a different expert designed as a stand-alone event.
X-ALT-DESC;FMTTYPE=text/html:<p><strong>Topic:</strong> Interviewing\, Hiring\, &amp\; Firing<br />\n<strong>Speaker</strong>: Dave Holden\, Radiation Detection Company<br />\n<br />\n<strong>About the Presentation:</strong><br />\nLearn HOW to:<br />\n*interview for both competence and character<br />\n*hire the right candidate at the right time with confidence<br />\n*establish an effective progressive discipline and reward culture<br />\n*terminate with Grace\, Tact and Diplomacy<br />\n<br />\n<strong>About the Speaker:</strong><br />\n<br />\n<br />\n<strong>About the Series:</strong><br />\nThis is part two of a three-part series designed to share soft skills with entry-level managers but in a way that would be beneficial for non-managers and more experienced managers. Each presentation is given by a different expert designed as a stand-alone event.&nbsp\;<br />\n<br />\n&nbsp\;</p>\n
LOCATION:Georgetown Chamber of Commerce or Zoom
UID:e.3550.2695
SEQUENCE:3
DTSTAMP:20260424T192652Z
URL:https://business.georgetownchamber.org/events/details/2021-5-interviewing-hiring-firing-virtual-chamber-university-2695
END:VEVENT

END:VCALENDAR
