BEGIN:VCALENDAR
VERSION:2.0
PRODID:-//ChamberMaster//Event Calendar 2.0//EN
METHOD:PUBLISH
X-PUBLISHED-TTL:P3D
REFRESH-INTERVAL:P3D
CALSCALE:GREGORIAN
BEGIN:VEVENT
DTSTART:20210512T171500Z
DTEND:20210512T180000Z
X-MICROSOFT-CDO-ALLDAYEVENT:FALSE
SUMMARY:2021.5 Ribbon Cutting for Pain Specialist of America
DESCRIPTION:Ribbon Cuttings are an excellent opportunity to celebrate milestones with members of the Georgetown Chamber. Ribbon Cuttings are free and open to the public.
X-ALT-DESC;FMTTYPE=text/html:Ribbon Cuttings are an excellent opportunity to celebrate milestones with members of the Georgetown Chamber. Ribbon Cuttings are free and open to the public.&nbsp\;&nbsp\;&nbsp\;&nbsp\;&nbsp\;
LOCATION:Pain Specialists of America 3201 S Austin Ave Ste 265 Georgetown\, TX 78628
UID:e.3550.2777
SEQUENCE:3
DTSTAMP:20260424T181544Z
URL:https://business.georgetownchamber.org/events/details/2021-5-ribbon-cutting-for-pain-specialist-of-america-2777
END:VEVENT

END:VCALENDAR
