BEGIN:VCALENDAR
VERSION:2.0
PRODID:-//ChamberMaster//Event Calendar 2.0//EN
METHOD:PUBLISH
X-PUBLISHED-TTL:P3D
REFRESH-INTERVAL:P3D
CALSCALE:GREGORIAN
BEGIN:VEVENT
DTSTART:20210525T160000Z
DTEND:20210525T180000Z
X-MICROSOFT-CDO-ALLDAYEVENT:FALSE
SUMMARY:2021.5 Women in Business Quarterly Luncheon
DESCRIPTION:Topic: "Building Your Personal Brand"\n\nGoals:\n\n	Our reputations ARE our brands\, and we can learn to be intentional and authentic in shaping them\n	Several exercises will help you think about what your brand invokes\n	How to apply insights from the world's best brands to your personal brand\n\n\n\n\nSpeaker: \n\nGay Gaddis is the founder of T3\, an innovative digital and marketing agency that grew into the largest woman-owned independent agency in the U.S. Gay's most recent announcement is a new leadership development program entitled\, Women Who Mean Business\, that she is co-teaching at the University of Texas at Austin starting on-campus this Fall. \n\n\n\nSchedule:\n\n11:00-11:15 Lunch\n\n11:15-11:45 Structured networking\n\n11:45-12:00 Introductions\n\n12:00- 1:00 Meeting\n\n\n\nLunch from Sweet Lemon\n\nTurkey club croissant\, salad\, and lemon bars\n\n\n\nDoor prizes welcome!
X-ALT-DESC;FMTTYPE=text/html:<span style="font-size:14px\;"><span style="font-family:arial\;"><strong>Topic: &quot\;Building Your Personal Brand&quot\;</strong></span></span><br />\n<span style="font-size:12px\;"><span style="color:black\;">Goals:</span></span>\n<ol>\n	<li style="padding: 0px\; margin: 0px\; line-height: 1.2\; text-align: left\;"><span style="font-size:12px\;"><span style="font-family:arial\;">Our reputations ARE our brands\, and we can learn to be intentional and authentic in shaping them</span></span></li>\n	<li style="padding: 0px\; margin: 0px\; line-height: 1.2\; text-align: left\;"><span style="font-size:12px\;"><span style="font-family:arial\;">Several exercises will help you think about what your brand invokes</span></span></li>\n	<li style="padding: 0px\; margin: 0px\; line-height: 1.2\; text-align: left\;"><span style="font-size:12px\;"><span style="font-family:arial\;">How to apply insights from the world&#39\;s best brands to your personal brand</span></span></li>\n</ol>\n\n<div style="color:black\;"><br />\n<strong><span style="font-size:14px\;">Speaker:&nbsp\;</span></strong><br />\n<span style="font-size:14px\;"><span style="font-family:arial\;"><a data-link-type="web" href="http://www.gaygaddis.com/" rel="noopener noreferrer" style="color: rgb(21\, 83\, 104)\; font-size: 16px\; text-align: center\; white-space: pre-wrap\; font-family: Georgia\, &quot\;Times New Roman&quot\;\, Times\, serif\;" target="_blank">Gay Gaddis</a><span style="color: rgb(0\, 0\, 0)\; text-align: center\; white-space: pre-wrap\;"> is&nbsp\;the founder of T3\, an innovative digital and marketing agency that grew into the largest woman-owned independent agency in the U.S.&nbsp\;Gay&#39\;s most recent announcement is a new leadership development program entitled\, Women Who Mean Business\, that she is co-teaching at&nbsp\;the University of Texas at Austin starting on-campus this Fall.&nbsp\;</span></span></span><br />\n<br />\n<strong style="color: rgb(0\, 0\, 0)\;"><span style="font-size: 14px\;">Schedule:</span></strong><br />\n<span style="font-size: 14px\;">11:00-11:15 Lunch</span><br />\n<span style="font-size: 14px\;">11:15-11:45 Structured networking<br />\n11:45-12:00 Introductions<br />\n12:00- 1:00&nbsp\;Meeting</span></div>\n\n<div style="color:black\;"><br />\n<strong><span style="font-size:14px\;"><span style="font-family:arial\;">Lunch from Sweet Lemon</span></span></strong></div>\n\n<div style="color:black\;"><span style="font-size:14px\;"><span style="font-family:arial\;">Turkey club croissant\, salad\, and lemon bars</span></span></div>\n\n<div style="color:black\;"><br />\n<span style="font-size:14px\;"><span style="font-family:arial\;">Door prizes welcome!</span></span></div>\n
LOCATION:Georgetown Chamber of Commerce 1 Chamber Way\, Georgetown\, TX 78626 or Zoom
UID:e.3550.2753
SEQUENCE:3
DTSTAMP:20260424T181409Z
URL:https://business.georgetownchamber.org/events/details/2021-5-women-in-business-quarterly-luncheon-2753
END:VEVENT

END:VCALENDAR
