BEGIN:VCALENDAR
VERSION:2.0
PRODID:-//ChamberMaster//Event Calendar 2.0//EN
METHOD:PUBLISH
X-PUBLISHED-TTL:P3D
REFRESH-INTERVAL:P3D
CALSCALE:GREGORIAN
BEGIN:VEVENT
DTSTART:20231206T230000Z
DTEND:20231207T010000Z
X-MICROSOFT-CDO-ALLDAYEVENT:FALSE
SUMMARY:2023 Ambassador Dinner December
DESCRIPTION:Ambassador Dinner December\n\n\n\nCalling all Ambassadors!! Let's celebrate your hard work connecting businesses in our community.\n\n\n\nThis evening will be filled with food\, games and a fun white elephant gift exchange. Please bring a gift (no more than $10 value) to participate.   \n\n\n\nAmbassadors volunteer their time to help promote the Georgetown business community and support Chamber functions. The Ambassadors are a vital team of Chamber partners dedicated to assisting the Georgetown Chamber of Commerce in meeting with and supporting our members. Ambassadors serve in a variety of volunteer capacities\, assisting the staff of the Chamber as well as other Chamber partners.\n\n \n\nAre you looking for more ways to connect to the Georgetown Business Community? Join our Ambassador Program today. Contact the Cheryl to learn more.
X-ALT-DESC;FMTTYPE=text/html:<strong><span style="font-size:22px\;"><span style="font-family:arial\;">Ambassador Dinner December</span></span></strong><br />\n<br />\n<span style="font-size:18px\;"><span style="font-family: arial\;">Calling all Ambassadors!! </span>Let&#39\;s celebrate your hard work connecting businesses in our community.</span><br style="font-size: 22px\;" />\n<br style="font-size: 22px\;" />\n<span style="font-size:18px\;">This evening will be filled with food\, games and a fun white elephant gift exchange. Please bring a gift (no more than $10 value) to participate.&nbsp\; &nbsp\;</span><br style="font-size: 22px\;" />\n<br />\n<span style="font-family: arial\, sans-serif\; font-size: 18px\;">Ambassadors volunteer their time to help promote the Georgetown business community and support Chamber functions. The Ambassadors are a vital team of Chamber partners dedicated to assisting the Georgetown Chamber of Commerce in meeting with and supporting our members. Ambassadors serve in a variety of volunteer capacities\, assisting the staff of the Chamber as well as other Chamber partners.</span><br />\n<span style="font-size:18px\;">&nbsp\;<br />\n<em><span style="font-family:arial\,sans-serif\;">Are you looking for more ways to connect to the Georgetown Business Community? Join our Ambassador Program today. Contact the Cheryl to learn more.</span></em></span><br />\n<br />\n&nbsp\;
LOCATION:Georgetown Country Club 1500 Country Club Rd. Georgetown\, TX 78628
UID:e.3550.7250
SEQUENCE:3
DTSTAMP:20260421T031635Z
URL:https://business.georgetownchamber.org/events/details/2023-ambassador-dinner-december-7250
END:VEVENT

END:VCALENDAR
