BEGIN:VCALENDAR
VERSION:2.0
PRODID:-//ChamberMaster//Event Calendar 2.0//EN
METHOD:PUBLISH
X-PUBLISHED-TTL:P3D
REFRESH-INTERVAL:P3D
CALSCALE:GREGORIAN
BEGIN:VEVENT
DTSTART:20230802T163000Z
DTEND:20230802T180000Z
X-MICROSOFT-CDO-ALLDAYEVENT:FALSE
SUMMARY:2023 Ambassador Lunch August
DESCRIPTION:Ambassador Lunch August 2023\n\n\n\nThe Ambassador Committee meets monthly to discuss upcoming Chamber events & other Chamber updates\, recognize the Ambassador of the Month\, and network with each other. This Luncheon is exclusive to our current Chamber Ambassadors.\n\n \n\nAre you looking for more ways to connect to the Georgetown Business Community? Join our Ambassador Program today. Contact the Member Relations Manager to learn more.
X-ALT-DESC;FMTTYPE=text/html:<span style="font-size:22px\;"><span style="font-family:arial\;">Ambassador Lunch August 2023</span></span><br />\n<br />\n<span style="font-size:18px\;"><span style="font-family:arial\;">The Ambassador Committee meets monthly to discuss upcoming Chamber events &amp\; other Chamber updates\, recognize the Ambassador of the Month\, and network with each other. This Luncheon is exclusive to our current Chamber Ambassadors.<br />\n&nbsp\;<br />\nAre you looking for more ways to connect to the Georgetown Business Community? Join our Ambassador Program today. Contact the Member Relations Manager to learn more.</span></span><br />\n&nbsp\;
LOCATION:Georgetown Chamber of Commerce 1 Chamber Way Georgetown\, TX 78626
UID:e.3550.7126
SEQUENCE:3
DTSTAMP:20260421T081818Z
URL:https://business.georgetownchamber.org/events/details/2023-ambassador-lunch-august-7126
END:VEVENT

END:VCALENDAR
