BEGIN:VCALENDAR
VERSION:2.0
PRODID:-//ChamberMaster//Event Calendar 2.0//EN
METHOD:PUBLISH
X-PUBLISHED-TTL:P3D
REFRESH-INTERVAL:P3D
CALSCALE:GREGORIAN
BEGIN:VEVENT
DTSTART:20230906T163000Z
DTEND:20230906T180000Z
X-MICROSOFT-CDO-ALLDAYEVENT:FALSE
SUMMARY:2023 Ambassador Lunch September
DESCRIPTION:Ambassador Lunch September\n\n\n\nAmbassadors volunteer their time to help promote the Georgetown business community and support Chamber functions. The Ambassadors are a vital team of Chamber partners dedicated to assisting the Georgetown Chamber of Commerce in meeting with and supporting our members. Ambassadors serve in a variety of volunteer capacities\, assisting the staff of the Chamber as well as other Chamber partners.\n\n \n\nThe Ambassador Committee meets monthly to discuss upcoming Chamber events & other Chamber updates\, recognize the Ambassador of the Month\, and network with each other. This Luncheon is exclusive to our current Chamber Ambassadors.\n\n \n\nAre you looking for more ways to connect to the Georgetown Business Community? Join our Ambassador Program today. Contact the Cheryl to learn more.
X-ALT-DESC;FMTTYPE=text/html:<strong><span style="font-size:22px\;"><span style="font-family:arial\;">Ambassador Lunch September</span></span></strong><br />\n<br />\n<span style="font-size:18px\;"><span style="font-family:arial\,sans-serif\;">Ambassadors volunteer their time to help promote the Georgetown business community and support Chamber functions. The Ambassadors are a vital team of Chamber partners dedicated to assisting the Georgetown Chamber of Commerce in meeting with and supporting our members. Ambassadors serve in a variety of volunteer capacities\, assisting the staff of the Chamber as well as other Chamber partners.</span><br />\n&nbsp\;<br />\n<span style="font-family:arial\,sans-serif\;">The Ambassador Committee meets monthly to discuss upcoming Chamber events &amp\; other Chamber updates\, recognize the Ambassador of the Month\, and network with each other. This Luncheon is exclusive to our current Chamber Ambassadors.</span><br />\n&nbsp\;<br />\n<span style="font-family:arial\,sans-serif\;">Are you looking for more ways to connect to the Georgetown Business Community? Join our Ambassador Program today. Contact the Cheryl to learn more.</span></span><br />\n<br />\n&nbsp\;
LOCATION:Georgetown Chamber of Commerce 1 Chamber Way Georgetown\, TX 78626
UID:e.3550.7127
SEQUENCE:3
DTSTAMP:20260421T065248Z
URL:https://business.georgetownchamber.org/events/details/2023-ambassador-lunch-september-7127
END:VEVENT

END:VCALENDAR
