BEGIN:VCALENDAR
VERSION:2.0
PRODID:-//ChamberMaster//Event Calendar 2.0//EN
METHOD:PUBLISH
X-PUBLISHED-TTL:P3D
REFRESH-INTERVAL:P3D
CALSCALE:GREGORIAN
BEGIN:VEVENT
DTSTART:20230711T163000Z
DTEND:20230711T180000Z
X-MICROSOFT-CDO-ALLDAYEVENT:FALSE
SUMMARY:2023 Business Network Lunch July
DESCRIPTION:Business Network Lunch is our largest monthly event focused on building your connections. Everyone introduces themselves and time is allowed to meet with each other to share about your business and learn about their business. We also have updates from the City\, ISD\, and Chamber.\n\n \n\n\n	New member of the Chamber? Members get 30 seconds to introduce themselves. Reach out to Chamber staff to get on the agenda. \n	Have a PSA? Members can announce their PSA. Reach out to Chamber staff to get it on the agenda. \n	Want to connect with another member? Bring a door prize to make a new connection! \n\n\n\nLunch Provided by: Reunion Ranch\n\n\n\nBusiness Network Lunch is our largest monthly event focused on building your connections.
X-ALT-DESC;FMTTYPE=text/html:<p><span style="font-size:18px\;"><span style="font-family:tahoma\;"><a name="_Hlk135295984"><span style="color:#333333\;">Business Network Lunch is our largest monthly event focused on building your connections. </span></a>Everyone introduces themselves and time is allowed to meet with each other to share about your business and learn about their business. We also have updates from the City\, ISD\, and Chamber.</span></span><br />\n&nbsp\;</p>\n\n<ul>\n	<li><span style="font-size:18px\;"><span style="font-family:tahoma\;"><span style="color:#333333\;">New member of the Chamber? Members get 30 seconds to introduce themselves.&nbsp\;</span><span century="" font-size:="">Reach out to Chamber staff to get&nbsp\;on the agenda.&nbsp\;</span></span></span></li>\n	<li><span style="font-size:18px\;"><span style="font-family:tahoma\;"><span style="color:#333333\;">Have a PSA? Members can announce their PSA. Reach out to Chamber staff to get it on the agenda.&nbsp\;</span></span></span></li>\n	<li><span style="font-size:18px\;"><span style="font-family:tahoma\;"><span style="color:#333333\;">Want to connect with another member? Bring&nbsp\;a door prize&nbsp\;to make a new connection!&nbsp\;</span></span></span></li>\n</ul>\n<br />\n<span style="font-size:18px\;"><span style="font-family:tahoma\;"><span style="color:#333333\;">Lunch Provided by: Reunion Ranch</span></span></span>\n\n<p><br />\n<span style="font-size:18px\;"><span style="font-family:tahoma\;"><em>Business Network Lunch is our largest monthly event focused on building your connections.</em></span></span></p>\n
LOCATION:Reunion Ranch 850 Co Rd 255 Georgetown\, TX 78633 Location varies month to month. For directions\, follow the link listed in the location details on the right side of the page.
UID:e.3550.7163
SEQUENCE:3
DTSTAMP:20260421T102552Z
URL:https://business.georgetownchamber.org/events/details/2023-business-network-lunch-july-7163
END:VEVENT

END:VCALENDAR
