BEGIN:VCALENDAR
VERSION:2.0
PRODID:-//ChamberMaster//Event Calendar 2.0//EN
METHOD:PUBLISH
X-PUBLISHED-TTL:P3D
REFRESH-INTERVAL:P3D
CALSCALE:GREGORIAN
BEGIN:VEVENT
DTSTART:20231207T173000Z
DTEND:20231207T183000Z
X-MICROSOFT-CDO-ALLDAYEVENT:FALSE
SUMMARY:2023 Chamber Circle: Business With a Target Market of Seniors
DESCRIPTION:Real connections happen best within authentic relationships where members connect with one another. Our Chamber Circles are small groups of Chamber members who share common interest in their business and professional development. The Circles meet monthly to build business relationships and trust among fellow members who know about their business and want to help each other succeed.  Chamber Circles are designed to take members out of rows and into circles where they can provide meaningful conversations while discussing business content. \n\n\n\nPurpose: Created for businesses with products/services for seniors. This group facilitates connections. \n\nSpeaker is Penny Leone \,RN that will be speaking on Getting Thru the Holidays after Loosing someone \,grief\, family dynamics I think this will be very helpful for this time of the year.\n\nHosts: Steve Tatro
X-ALT-DESC;FMTTYPE=text/html:<span style="color: rgb(51\, 51\, 51)\; font-family: arial\; font-size: 16px\;">Real connections happen best within authentic relationships where members connect with one another. Our Chamber Circles are&nbsp\;small groups of Chamber members who share common interest in their business and professional development. The Circles meet monthly to build business relationships and trust among fellow members who know about their business and want to help each other succeed. &nbsp\;Chamber Circles are designed to take members out of rows and into circles where they can provide meaningful conversations while discussing business content.&nbsp\;</span><br style="color: rgb(51\, 51\, 51)\; font-family: arial\; font-size: 16px\;" />\n<br style="color: rgb(51\, 51\, 51)\; font-family: arial\; font-size: 16px\;" />\n<strong style="color: rgb(51\, 51\, 51)\; font-family: arial\; font-size: 16px\;">Purpose:</strong><span style="color: rgb(51\, 51\, 51)\; font-family: sans-serif\, Arial\, Verdana\, &quot\;Trebuchet MS&quot\;\; font-size: 13px\; background-color: rgb(255\, 255\, 255)\;">&nbsp\;</span><span style="color: rgb(51\, 51\, 51)\; font-family: sans-serif\, Arial\, Verdana\, &quot\;Trebuchet MS&quot\;\; font-size: 16px\;"><span style="font-family: arial\;">Created for businesses with products/services for seniors. This group facilitates connections.<i style="box-sizing: border-box\; color: rgb(0\, 0\, 0)\; font-family: &quot\;Open Sans&quot\;\, sans-serif\; font-size: 18px\;">&nbsp\;</i></span></span><br style="color: rgb(51\, 51\, 51)\; font-family: arial\; font-size: 16px\;" />\n<span style="color: rgb(51\, 51\, 51)\; font-family: arial\; font-size: 16px\;">Speaker is Penny Leone \,RN that will be speaking on Getting Thru the Holidays a</span><span style="color: rgb(51\, 51\, 51)\; font-family: sans-serif\, Arial\, Verdana\, &quot\;Trebuchet MS&quot\;\; font-size: 16px\;"><span style="font-family: arial\;">f</span></span><span style="color: rgb(51\, 51\, 51)\; font-family: sans-serif\, Arial\, Verdana\, &quot\;Trebuchet MS&quot\;\; font-size: 16px\;"><span style="font-family: arial\;">t</span></span><span style="color: rgb(51\, 51\, 51)\; font-family: sans-serif\, Arial\, Verdana\, &quot\;Trebuchet MS&quot\;\; font-size: 16px\;"><span style="font-family: arial\;">er Loosing some</span></span><span style="color: rgb(51\, 51\, 51)\; font-family: sans-serif\, Arial\, Verdana\, &quot\;Trebuchet MS&quot\;\; font-size: 16px\;"><span style="font-family: arial\;">one \,grief\, family dynamics I think this will be very helpful for this time of the year.</span></span><br style="color: rgb(51\, 51\, 51)\; font-family: arial\; font-size: 16px\;" />\n<strong style="color: rgb(51\, 51\, 51)\; font-family: arial\; font-size: 16px\;">Hosts:&nbsp\;</strong><span style="color: rgb(51\, 51\, 51)\; font-family: sans-serif\, Arial\, Verdana\, &quot\;Trebuchet MS&quot\;\; font-size: 16px\;"><span style="font-family: arial\;">Steve Tatro</span></span>
LOCATION:Zoom Topic: Business With a Target Market of Seniors Time: Dec 7\, 2023 11:30 AM Central Time (US and Canada) Join Zoom Meeting https://us02web.zoom.us/j/88342062363
UID:e.3550.7325
SEQUENCE:3
DTSTAMP:20260421T032302Z
URL:https://business.georgetownchamber.org/events/details/2023-chamber-circle-business-with-a-target-market-of-seniors-12-07-2023-7325
END:VEVENT

END:VCALENDAR
