BEGIN:VCALENDAR
VERSION:2.0
PRODID:-//ChamberMaster//Event Calendar 2.0//EN
METHOD:PUBLISH
X-PUBLISHED-TTL:P3D
REFRESH-INTERVAL:P3D
CALSCALE:GREGORIAN
BEGIN:VEVENT
DTSTART:20231102T163000Z
DTEND:20231102T173000Z
X-MICROSOFT-CDO-ALLDAYEVENT:FALSE
SUMMARY:2023 Chamber Circle: Businesses with a Target Market of Seniors
DESCRIPTION:Chamber Circle: Businesses with a Target Market of Seniors\n\n\n\nReal connections happen best within authentic relationships where members connect. Our Chamber Circles are small groups of Chamber Members with a common interest in their business and professional development. The Circles meet monthly to build business relationships and trust among members who know about their business and want to help each other succeed. \n\n \n\nPurpose: Created for businesses with products/services for seniors. This group facilitates connections.\n\n \n\nHost: Steve Tatro (Retirement Resources)\n\n \n\nChamber Circles are designed to take members out of rows and into circles where they can provide meaningful conversations while discussing business content. \n\n\n\n Speaker\n\nPenny is a native of central Illinois but "got to Texas as fast as she could". She has lived in Georgetown since 1978.  Penny is a Registered Nurse with a background in acute care. Her longest employment was 26 years as a Parish Nurse for First Presbyterian Church Georgetown where she continues to live. Caring for people in the faith community through individual counseling and non-invasive nursing care is her passion. Penny and her husband\, Pat\, married in 2005 and have five children\, six grandchildren and five great grandchildren.\n\n \n\n"Taking the Grinch Out of Christmas" Do you feel like you are the Grinch who hated Christmas?  In this season of hustle and bustle and bright and merry\, sometimes\, for many reasons we just feel that we would like to skip it. Let's spend some time considering various ways to face the holidays with a bit more positive anticipation like little Cindy Lou Who.
X-ALT-DESC;FMTTYPE=text/html:<span style="font-size:22px\;"><span style="font-family:arial\;">Chamber Circle: Businesses with a Target Market of Seniors</span></span><br />\n<br />\n<span style="font-size:18px\;"><span style="font-family:arial\;">Real connections happen best within authentic relationships where members connect. Our Chamber Circles are small groups of Chamber Members with a common interest in their business and professional development. The Circles meet monthly to build business relationships and trust among members who know about their business and want to help each other succeed.&nbsp\;<br />\n&nbsp\;<br />\nPurpose: Created for businesses with products/services for seniors. This group facilitates connections.<br />\n&nbsp\;<br />\nHost: Steve Tatro (Retirement Resources)<br />\n&nbsp\;<br />\n<em>Chamber Circles are designed to take members out of rows and into circles where they can provide meaningful conversations while discussing business content. </em><br />\n<br />\n&nbsp\;</span>Speaker<br />\n<span style="font-family: &quot\;times new roman&quot\;\, serif\;">Penny is a native of central Illinois but &ldquo\;got to Texas as fast as she could&rdquo\;. She has lived in Georgetown since 1978.&nbsp\; Penny is a Registered Nurse with a background in acute care. Her longest employment was 26 years as a Parish Nurse for First Presbyterian Church Georgetown where she continues to live. Caring for people in the faith community through individual counseling and non-invasive nursing care is her passion. Penny and her husband\, Pat\, married in 2005 and have five children\, six grandchildren and five great grandchildren.</span><br />\n&nbsp\;<br />\n<span style="font-family: &quot\;times new roman&quot\;\, serif\;">&quot\;Taking the Grinch Out of Christmas&quot\;&nbsp\;Do you feel like you are the Grinch who hated&nbsp\;Christmas?&nbsp\;&nbsp\;In this season of hustle and bustle and bright and merry\, sometimes\, for many reasons we just feel that we would like to skip it.&nbsp\;Let&#39\;s spend some time considering various ways to face the holidays with a bit more positive anticipation like little Cindy Lou Who.</span><br />\n&nbsp\;</span><br />\n<br />\n&nbsp\;
LOCATION:Zoom *must register to receive the Zoom link* Join Zoom Meeting https://us02web.zoom.us/j/82184174933
UID:e.3550.7160
SEQUENCE:3
DTSTAMP:20260421T043041Z
URL:https://business.georgetownchamber.org/events/details/2023-chamber-circle-businesses-with-a-target-market-of-seniors-11-02-2023-7160
END:VEVENT

END:VCALENDAR
