BEGIN:VCALENDAR
VERSION:2.0
PRODID:-//ChamberMaster//Event Calendar 2.0//EN
METHOD:PUBLISH
X-PUBLISHED-TTL:P3D
REFRESH-INTERVAL:P3D
CALSCALE:GREGORIAN
BEGIN:VEVENT
DTSTART:20231005T163000Z
DTEND:20231005T173000Z
X-MICROSOFT-CDO-ALLDAYEVENT:FALSE
SUMMARY:2023 Chamber Circle: Businesses with a Target Market of Seniors October
DESCRIPTION:Chamber Circle: Businesses with a Target Market of Seniors\n\n\n\nReal connections happen best within authentic relationships where members connect. Our Chamber Circles are small groups of Chamber Members with a common interest in their business and professional development. The Circles meet monthly to build business relationships and trust among members who know about their business and want to help each other succeed. \n\n \n\nPurpose: Created for businesses with products/services for seniors. This group facilitates connections.\n\n \n\nHost: Steve Tatro (Retirement Resources)\n\n \n\nChamber Circles are designed to take members out of rows and into circles where they can provide meaningful conversations while discussing business content.
X-ALT-DESC;FMTTYPE=text/html:<span style="font-size:22px\;"><span style="font-family:arial\;">Chamber Circle: Businesses with a Target Market of Seniors</span></span><br />\n<br />\n<span style="font-size:18px\;"><span style="font-family:arial\;">Real connections happen best within authentic relationships where members connect. Our Chamber Circles are small groups of Chamber Members with a common interest in their business and professional development. The Circles meet monthly to build business relationships and trust among members who know about their business and want to help each other succeed.&nbsp\;<br />\n&nbsp\;<br />\nPurpose: Created for businesses with products/services for seniors. This group facilitates connections.<br />\n&nbsp\;<br />\nHost: Steve Tatro (Retirement Resources)<br />\n&nbsp\;<br />\n<em>Chamber Circles are designed to take members out of rows and into circles where they can provide meaningful conversations while discussing business content. </em><br />\n<br />\n&nbsp\;</span></span><br />\n&nbsp\;
LOCATION:Zoom *must register to receive the Zoom link* Join Zoom Meeting https://us02web.zoom.us/j/82184174933
UID:e.3550.7159
SEQUENCE:3
DTSTAMP:20260421T055419Z
URL:https://business.georgetownchamber.org/events/details/2023-chamber-circle-businesses-with-a-target-market-of-seniors-october-7159
END:VEVENT

END:VCALENDAR
