BEGIN:VCALENDAR
VERSION:2.0
PRODID:-//ChamberMaster//Event Calendar 2.0//EN
METHOD:PUBLISH
X-PUBLISHED-TTL:P3D
REFRESH-INTERVAL:P3D
CALSCALE:GREGORIAN
BEGIN:VEVENT
DTSTART:20231204T190000Z
DTEND:20231204T200000Z
X-MICROSOFT-CDO-ALLDAYEVENT:FALSE
SUMMARY:2023 Chamber Circle: Marketing
DESCRIPTION:Chamber Circle: Marketing\n\n\n\nReal connections happen best within authentic relationships where members connect with one another. Our Chamber Circles are small groups of Chamber members who share common interest in their business and professional development. The Circles meet monthly to build business relationships and trust among fellow members who know about their business and want to help each other succeed.  Chamber Circles are designed to take members out of rows and into circles where they can provide meaningful conversations while discussing business content. \n\n\n\nPurpose: Gain greater brand awareness\, attract more clients and grow your business in Georgetown utilizing cutting-edge strategies\, tools\, tactics\, and tips. This Circle is interactive to help you get actionable marketing ideas.\n\n\n\nMonthly Topic: This month\, we'll be busting through myths around best practices in social media marketing and sharing truths that will help you take your efforts to the next level in 2024. This is a free interactive roundtable discussion with professional marketing consultants\, so bring your biggest social media marketing questions\, and we'll get them answered.\n\n\n\nFormat: Roundtable   Discussion\n\n\n\nHosts:\n\nCarolyn Cummins - Santosha Solutions: Marketing and Social Media Coach\n\nLaura Terry - Grayson Media and Marketing
X-ALT-DESC;FMTTYPE=text/html:<span style="font-family:arial\;"><span style="font-size:22px\;">Chamber Circle: Marketing</span></span><br />\n<br />\n<span style="font-size:18px\;"><span style="font-family:arial\;"><span style="background:white\;"><span style="color:black\;">Real connections happen best within authentic relationships where members connect with one another. Our Chamber Circles are&nbsp\;small groups of Chamber members who share common interest in their business and professional development. The Circles meet monthly to build business relationships and trust among fellow members who know about their business and want to help each other succeed. &nbsp\;Chamber Circles are designed to take members out of rows and into circles where they can provide meaningful conversations while discussing business content.&nbsp\;</span></span><br />\n<br />\n<span style="color:black\;"><strong>Purpose</strong>: Gain greater brand awareness\, attract more clients and grow your business in Georgetown utilizing cutting-edge strategies\, tools\, tactics\, and tips. This Circle is interactive to help you get actionable marketing ideas.</span><br />\n<br />\n<strong>Monthly Topic:</strong>&nbsp\;This month\, we&#39\;ll be busting through myths around best practices in social media marketing and sharing truths that will help you take your efforts to the next level in 2024.&nbsp\;<span style="color:var(--color-text)\;"><span style="background-color:var(--color-content)\;">This is a free interactive roundtable discussion with professional marketing consultants\, so bring your biggest social media marketing questions\, and we&#39\;ll get them answered.</span></span><br />\n<br />\n<span style="line-height: 107%\; color: black\; background-image: initial\; background-position: initial\; background-size: initial\; background-repeat: initial\; background-attachment: initial\; background-origin: initial\; background-clip: initial\;"><strong>Format</strong>: Roundtable &ndash\; Discussion</span><br />\n<br />\n<span style="color:black\;"><strong>Hosts:</strong><br />\nCarolyn Cummins - <a href="https://santoshasolutions.com/">Santosha Solutions: Marketing and Social Media Coach</a><br />\nLaura Terry - <a href="https://www.grayson-media.com/contact">Grayson Media and Marketing&nbsp\;</a></span></span></span>
LOCATION:Georgetown Chamber of Commerce 1 Chamber Way Georgetown\, TX\, 78626
UID:e.3550.6576
SEQUENCE:3
DTSTAMP:20260421T032548Z
URL:https://business.georgetownchamber.org/events/details/2023-chamber-circle-marketing-12-04-2023-6576
END:VEVENT

END:VCALENDAR
