BEGIN:VCALENDAR
VERSION:2.0
PRODID:-//ChamberMaster//Event Calendar 2.0//EN
METHOD:PUBLISH
X-PUBLISHED-TTL:P3D
REFRESH-INTERVAL:P3D
CALSCALE:GREGORIAN
BEGIN:VEVENT
DTSTART:20230807T180000Z
DTEND:20230807T190000Z
X-MICROSOFT-CDO-ALLDAYEVENT:FALSE
SUMMARY:2023 Chamber Circle: Marketing August
DESCRIPTION:Chamber Circle: Marketing\n\n\n\nReal connections happen best within authentic relationships where members connect. Our Chamber Circles are small groups of Chamber Members with a common interest in their business and professional development. The Circles meet monthly to build business relationships and trust among members who know about their business and want to help each other succeed. \n\n \n\nPurpose: Gain greater brand awareness\, attract more clients and grow your business in Georgetown utilizing cutting-edge strategies\, tools\, tactics\, and tips. This Circle is interactive to help you get actionable marketing ideas.\n\n \n\nHost:\n\nCarolyn Cummins (Santosha Solutions: Marketing and Social Media Coach) \n\nLaura Terry (Greyson Media and Marketing)\n\n \n\nChamber Circles are designed to take members out of rows and into circles where they can provide meaningful conversations while discussing business content.
X-ALT-DESC;FMTTYPE=text/html:<span style="font-size:18px\;"><span style="font-family:arial\;"><span style="font-size:22px\;">Chamber Circle: Marketing</span><br />\n<br />\nReal connections happen best within authentic relationships where members connect. Our Chamber Circles are small groups of Chamber Members with a common interest in their business and professional development. The Circles meet monthly to build business relationships and trust among members who know about their business and want to help each other succeed.&nbsp\;<br />\n&nbsp\;<br />\nPurpose:&nbsp\;Gain greater brand awareness\, attract more clients and grow your business in Georgetown utilizing cutting-edge strategies\, tools\, tactics\, and tips. This Circle is interactive to help you get actionable marketing ideas.<br />\n&nbsp\;<br />\nHost:<br />\nCarolyn Cummins (Santosha Solutions: Marketing and Social Media Coach)&nbsp\;<br style="color: rgb(0\, 0\, 0)\; font-family: arial\; font-size: 16px\;" />\nLaura Terry (Greyson Media and Marketing)<br />\n&nbsp\;<br />\n<em>Chamber Circles are designed to take members out of rows and into circles where they can provide meaningful conversations while discussing business content.</em></span></span>
LOCATION:Georgetown Chamber of Commerce 1 Chamber Way Georgetown\, TX\, 78626
UID:e.3550.6572
SEQUENCE:3
DTSTAMP:20260421T083017Z
URL:https://business.georgetownchamber.org/events/details/2023-chamber-circle-marketing-august-6572
END:VEVENT

END:VCALENDAR
