BEGIN:VCALENDAR
VERSION:2.0
PRODID:-//ChamberMaster//Event Calendar 2.0//EN
METHOD:PUBLISH
X-PUBLISHED-TTL:P3D
REFRESH-INTERVAL:P3D
CALSCALE:GREGORIAN
BEGIN:VEVENT
DTSTART:20230911T180000Z
DTEND:20230911T190000Z
X-MICROSOFT-CDO-ALLDAYEVENT:FALSE
SUMMARY:2023 Chamber Circle: Marketing September
DESCRIPTION:Chamber Circle: Marketing\n\n\n\nReal connections happen best within authentic relationships where members connect with one another. Our Chamber Circles are small groups of Chamber members who share common interest in their business and professional development. The Circles meet monthly to build business relationships and trust among fellow members who know about their business and want to help each other succeed.  Chamber Circles are designed to take members out of rows and into circles where they can provide meaningful conversations while discussing business content. \n\n\n\nPurpose: Gain greater brand awareness\, attract more clients and grow your business in Georgetown utilizing cutting-edge strategies\, tools\, tactics\, and tips. This Circle is interactive to help you get actionable marketing ideas.\n\n\n\nFormat: Roundtable   Discussion\n\n\n\nHosts:\n\nCarolyn Cummins - Santosha Solutions: Marketing and Social Media Coach\n\nLaura Terry - Greyson Media and Marketing\n\n\n\nSeptember Topic: Over 700 million people and businesses are on LinkedIn. Are you? Are you using LinkedIn to its maximum potential? \n\n\n\nPeople and businesses are using LinkedIn for: \n\n	Networking\n	Lead generation\n	Thought leadership\n	Analytics and insights\n	Recruiting \n	B2B (Business to Business)\n\nUnlock your potential to build valuable professional connections\, enhance brand visibility\, and generate targeted leads. You'll learn strategies and tools that will enable you to leverage LinkedIn's platform to its fullest. My good friend\, Ray Langlois\, who used to host the LinkedIn Circle\, will help host this meeting\, where we will dive deep into how to maximize LinkedIn. Bring your phone\, laptop\, tablet and work on your profile during the meeting!
X-ALT-DESC;FMTTYPE=text/html:<strong><span style="font-family:arial\;"><span style="font-size:22px\;">Chamber Circle: Marketing</span></span></strong><br />\n<br />\n<span style="font-size:18px\;"><span style="font-family:arial\;"><span style="background:white\;"><span style="color:black\;">Real connections happen best within authentic relationships where members connect with one another. Our Chamber Circles are&nbsp\;small groups of Chamber members who share common interest in their business and professional development. The Circles meet monthly to build business relationships and trust among fellow members who know about their business and want to help each other succeed. &nbsp\;Chamber Circles are designed to take members out of rows and into circles where they can provide meaningful conversations while discussing business content.&nbsp\;</span></span><br />\n<br />\n<span style="color:black\;"><strong>Purpose</strong>: Gain greater brand awareness\, attract more clients and grow your business in Georgetown utilizing cutting-edge strategies\, tools\, tactics\, and tips. This Circle is interactive to help you get actionable marketing ideas.</span><br />\n<br />\n<span style="line-height: 107%\; color: black\; background-image: initial\; background-position: initial\; background-size: initial\; background-repeat: initial\; background-attachment: initial\; background-origin: initial\; background-clip: initial\;"><strong>Format</strong>: Roundtable &ndash\; Discussion</span><br />\n<br />\n<span style="color:black\;"><strong>Hosts:</strong></span></span></span><br />\n<span style="background-color:#ffffff\;"><span style="font-size:18px\;"><span style="font-family:arial\;">Carolyn Cummins - Santosha Solutions: Marketing and Social Media Coach</span></span></span><br style="font-family:arial\;font-size:18px\;" />\n<span style="background-color:#ffffff\;"><span style="font-size:18px\;"><span style="font-family:arial\;">Laura Terry - Greyson Media and Marketing</span></span></span><br />\n<br />\n<span style="font-size:18px\;"><span style="font-family:arial\;"><span style="color:black\;"><strong>September Topic</strong>:&nbsp\;</span></span>Over 700 million people and businesses are on&nbsp\;LinkedIn. Are you? Are you using LinkedIn to its maximum potential?&nbsp\;<br />\n<br />\nPeople and businesses are using LinkedIn for:&nbsp\;</span>\n<ul>\n	<li><span style="font-size:18px\;">Networking</span></li>\n	<li><span style="font-size:18px\;">Lead generation</span></li>\n	<li><span style="font-size:18px\;">Thought leadership</span></li>\n	<li><span style="font-size:18px\;">Analytics and insights</span></li>\n	<li><span style="font-size:18px\;">Recruiting&nbsp\;</span></li>\n	<li><span style="font-size:18px\;">B2B (Business to Business)</span></li>\n</ul>\n<span style="font-size:18px\;">Unlock your potential to build valuable professional connections\, enhance brand visibility\, and generate targeted leads. You&#39\;ll learn strategies and tools that will enable you to leverage LinkedIn&#39\;s platform to its fullest. My good friend\, Ray Langlois\, who used to host the LinkedIn Circle\, will help host this meeting\, where we will dive deep into how to maximize LinkedIn. Bring your phone\, laptop\, tablet and work on your profile during the meeting!&nbsp\;</span>
LOCATION:Georgetown Chamber of Commerce 1 Chamber Way Georgetown\, TX\, 78626
UID:e.3550.6573
SEQUENCE:3
DTSTAMP:20260421T065454Z
URL:https://business.georgetownchamber.org/events/details/2023-chamber-circle-marketing-september-6573
END:VEVENT

END:VCALENDAR
