BEGIN:VCALENDAR
VERSION:2.0
PRODID:-//ChamberMaster//Event Calendar 2.0//EN
METHOD:PUBLISH
X-PUBLISHED-TTL:P3D
REFRESH-INTERVAL:P3D
CALSCALE:GREGORIAN
BEGIN:VEVENT
DTSTART:20230614T140000Z
DTEND:20230614T150000Z
X-MICROSOFT-CDO-ALLDAYEVENT:FALSE
SUMMARY:2023 Chamber Circle: Non-Profit
DESCRIPTION:Chamber Circle: Non-Profit\n\nReal connections happen best within authentic relationships where members connect. Our Chamber Circles are small groups of Chamber Members with a common interest in their business and professional development. The Circles meet monthly to build business relationships and trust among members who know about their business and want to help each other succeed. \n\n \n\nPurpose: We all look for ways to increase funds for our organizations. An ongoing discussion on what works and what is on the horizon so we can avoid duplication.\n\n \n\nHost: Ray Langlois (Everyone Thrives)\n\n \n\nChamber Circles are designed to take members out of rows and into circles where they can provide meaningful conversations while discussing business content.
X-ALT-DESC;FMTTYPE=text/html:<p class="x_xmsonormal" font-size:="" open="" style="box-sizing: border-box\; margin: 0px 0px 20px\; padding: 0px\; color: rgb(47\, 47\, 47)\; font-family: " text-align:=""><span style="color:#333333\;"><span style="font-family:verdana\;"><span style="font-size:16px\;"><strong>Chamber Circle: Non-Profit</strong><br />\nReal connections happen best within authentic relationships where members connect. Our Chamber Circles are small groups of Chamber Members with a common interest in their business and professional development. The Circles meet monthly to build business relationships and trust among members who know about their business and want to help each other succeed.&nbsp\;<br />\n&nbsp\;<br />\nPurpose: We all look for ways to increase funds for our organizations. An ongoing discussion on what works and what is on the horizon so we can avoid duplication.<br />\n&nbsp\;<br />\nHost: Ray Langlois (Everyone Thrives)<br />\n&nbsp\;<br />\n<em>Chamber Circles are designed to take members out of rows and into circles where they can provide meaningful conversations while discussing business content.</em></span></span></span></p>\n
LOCATION:Georgetown Chamber of Commerce 1 Chamber Way Georgetown\, TX 78626
UID:e.3550.6612
SEQUENCE:3
DTSTAMP:20260421T103109Z
URL:https://business.georgetownchamber.org/events/details/2023-chamber-circle-non-profit-6612
END:VEVENT

END:VCALENDAR
