BEGIN:VCALENDAR
VERSION:2.0
PRODID:-//ChamberMaster//Event Calendar 2.0//EN
METHOD:PUBLISH
X-PUBLISHED-TTL:P3D
REFRESH-INTERVAL:P3D
CALSCALE:GREGORIAN
BEGIN:VEVENT
DTSTART:20230809T140000Z
DTEND:20230809T150000Z
X-MICROSOFT-CDO-ALLDAYEVENT:FALSE
SUMMARY:2023 Chamber Circle: Non-Profits August
DESCRIPTION:Chamber Circle: Non-Profits\n\n\n\nReal connections happen best within authentic relationships where members connect. Our Chamber Circles are small groups of Chamber Members with a common interest in their business and professional development. The Circles meet monthly to build business relationships and trust among members who know about their business and want to help each other succeed. \n\n \n\nPurpose: We all look for ways to increase funds for our organizations. An ongoing discussion on what works and what is on the horizon so we can avoid duplication. \n\n\n\nHost: Ray Langlois (Everyone Thrives)\n\n\n\nChamber Circles are designed to take members out of rows and into circles where they can provide meaningful conversations while discussing business content.
X-ALT-DESC;FMTTYPE=text/html:<p class="x_xmsonormal" font-size:="" open="" style="box-sizing: border-box\; margin: 0px 0px 20px\; padding: 0px\; color: rgb(47\, 47\, 47)\; font-family: " text-align:=""><span style="font-size:18px\;"><span style="font-family:arial\;"><span style="font-size:22px\;">Chamber Circle: Non-Profits</span><br />\n<br />\nReal connections happen best within authentic relationships where members connect. Our Chamber Circles are small groups of Chamber Members with a common interest in their business and professional development. The Circles meet monthly to build business relationships and trust among members who know about their business and want to help each other succeed.&nbsp\;<br />\n&nbsp\;<br />\nPurpose:&nbsp\;<span style="color: rgb(0\, 0\, 0)\;">We all look for ways to increase funds for our organizations. An ongoing discussion on what works and what is on the horizon so we can avoid duplication.&nbsp\;</span><br style="color: rgb(47\, 47\, 47)\; font-family: arial\; font-size: 16px\;" />\n<br />\nHost:&nbsp\;<span style="color: rgb(0\, 0\, 0)\;">Ray Langlois (Everyone Thrives)</span><br />\n<br />\n<em>Chamber Circles are designed to take members out of rows and into circles where they can provide meaningful conversations while discussing business content. </em></span></span><br />\n&nbsp\;</p>\n
LOCATION:Zoom *must register to receive the Zoom link*
UID:e.3550.6618
SEQUENCE:3
DTSTAMP:20260421T090917Z
URL:https://business.georgetownchamber.org/events/details/2023-chamber-circle-non-profits-august-6618
END:VEVENT

END:VCALENDAR
